BEGIN:VCALENDAR
VERSION:2.0
PRODID:-//EMEVO - ECPv6.13.1//NONSGML v1.0//EN
CALSCALE:GREGORIAN
METHOD:PUBLISH
X-ORIGINAL-URL:https://emempleoverdeyoficios.madrid.es
X-WR-CALDESC:Eventos para EMEVO
REFRESH-INTERVAL;VALUE=DURATION:PT1H
X-Robots-Tag:noindex
X-PUBLISHED-TTL:PT1H
BEGIN:VTIMEZONE
TZID:Europe/Madrid
BEGIN:DAYLIGHT
TZOFFSETFROM:+0100
TZOFFSETTO:+0200
TZNAME:CEST
DTSTART:20250330T010000
END:DAYLIGHT
BEGIN:STANDARD
TZOFFSETFROM:+0200
TZOFFSETTO:+0100
TZNAME:CET
DTSTART:20251026T010000
END:STANDARD
END:VTIMEZONE
BEGIN:VEVENT
DTSTART;TZID=Europe/Madrid:20250922T090000
DTEND;TZID=Europe/Madrid:20250922T140000
DTSTAMP:20260424T090616
CREATED:20250624T124630Z
LAST-MODIFIED:20260309T095200Z
UID:10000015-1758531600-1758549600@emempleoverdeyoficios.madrid.es
SUMMARY:Curso de Instalación de Contadores
DESCRIPTION:¿Te gustaría aprender un oficio práctico y con salidas laborales reales? Conviértete en instalador de contadores\, adquiere habilidades técnicas en fontanería y climatización y accede a oportunidades en sectores clave como la construcción\, mantenimiento y reformas. Formación presencial con prácticas en empresa y orientación al empleo desde el primer día. \n¿A quién va dirigido este curso?\nEste curso está dirigido a personas desempleadas inscritas como demandantes de empleo en la Comunidad de Madrid\, que sean mayores de 18 años y que quieran formarse como instaladores/as de contadores.Ideal para quienes tengan interés en trabajos manuales\, buen manejo de herramientas y predisposición para trabajar en obras\, instalaciones o servicios técnicos. \nDuración\, modalidad y fechas\n\nTotal: 210 horas (150 h formación teórica + 60 h prácticas en empresa)\nComienzo: 22 de septiembre de 2025\nModalidad: Presencial\nHorario: 5 horas al día (turno de mañana\, 9:00 horas – 14:00 horas)\nLugar: EMEVO\nTeléfono: 689 43 91 90\nEmail: emempleoverdeyoficios@madrid.esLas fechas y horarios son orientativos y pueden sufrir modificaciones.\n\nFormación práctica en empresa\nEl itinerario incluye 50 horas de prácticas tutorizadas en empresa\, donde podrás: \n\nAplicar los conocimientos aprendidos en un entorno laboral real\nFamiliarizarte con herramientas\, materiales y protocolos profesionales\nMostrar tus capacidades ante empresas del sector\, con posibilidad de contratación\n\n¿Qué vas a aprender?\nEste itinerario combina competencias técnicas (hard skills) con formación en prevención de riesgos y sostenibilidad (soft skills) para que puedas trabajar con seguridad y eficiencia en instalaciones reales. \nAprenderás a: \n\nInstalar\, cortar y unir tuberías de distintos materiales.\nLeer e interpretar planos técnicos\, croquis y esquemas.\nManipular y ensamblar instalaciones de agua fría\, caliente y desagües.\nUtilizar herramientas como cortatubos\, curvadoras\, soldadoras o niveladores.\nRealizar uniones por soldadura\, roscado\, termofusión o sistema press-fitting.\nAplicar técnicas de aislamiento\, limpieza\, pruebas de estanqueidad y acabado final.\nIdentificar y aplicar normativa vigente y medidas de seguridad en obra.\nDesarrollar buenas prácticas medioambientales y prevención de riesgos laborales.\n\nContenidos destacados\nMódulo técnico (140 h): Operaciones de fontanería y climatización\n\nReplanteo\, corte y unión de tuberías de diferentes materiales\nInterpretación de planos\, croquis y simbología técnica\nInstalación de redes de agua caliente\, fría\, desagües y aguas pluviales\nUso de herramientas como curvadoras\, soldadoras\, cortatubos\, etc.\nTécnicas de aislamiento\, sellado\, estanqueidad y acabado final\nNormativa vigente (CTE\, reglamentos técnicos)\n\nMódulo transversal (40 h):\n\nBuenas prácticas medioambientales en obra\nPrevención de Riesgos Laborales en fontanería y climatización\n\nRequisitos de acceso:\nIndispensables:\n\nPersona inscrita como demandante de empleo en la Comunidad de Madrid.\nContar con empadronamiento preferentemente en el municipio de Madrid.\nIdioma Castellano B1.\nSer mayor de 18 años.\nCarnet de conducir tipo B\n\nValorables:\n\nInterés en el trabajo manual y técnico\nHabilidad en el uso de herramientas\nActitud proactiva y responsable\nCompromiso con las normas de seguridad en obra\n\nSalidas profesionales\nUna vez finalizado el curso podrás optar a empleos como: \n\nInstalador/a de contadores de agua o calefacción\nAyudante de fontanería\nMantenedor/a de redes de agua y saneamiento\n\nEl curso incluye prácticas reales en empresas colaboradoras del sector y puede abrirte las puertas a futuras contrataciones. \n¿Por qué elegir este curso?\n✔ Formación completa: teoría + práctica real en empresas✔ Profesores expertos con experiencia en el sector✔ Instalaciones reales para el aprendizaje técnico✔ Sector con alta demanda laboral✔ Apoyo a la inserción laboral tras el curso \nAprenderás un oficio con futuro y saldrás con competencias reales y demostrables.
URL:https://emempleoverdeyoficios.madrid.es/programa/instalador-a-de-contadores/
LOCATION:EMEVO\, Calle Ginebro 1\, Madrid\, 28041
CATEGORIES:Fontanería
ATTACH;FMTTYPE=image/jpeg:https://emempleoverdeyoficios.madrid.es/wp-content/uploads/2025/10/Instalacion-de-Contadores-FINALIZADO.jpg
ORGANIZER;CN="EMEVO":MAILTO:emempleoverdeyoficios@madrid.es
END:VEVENT
END:VCALENDAR