BEGIN:VCALENDAR
VERSION:2.0
PRODID:-//EMEVO - ECPv6.13.1//NONSGML v1.0//EN
CALSCALE:GREGORIAN
METHOD:PUBLISH
X-WR-CALNAME:EMEVO
X-ORIGINAL-URL:https://emempleoverdeyoficios.madrid.es
X-WR-CALDESC:Eventos para EMEVO
REFRESH-INTERVAL;VALUE=DURATION:PT1H
X-Robots-Tag:noindex
X-PUBLISHED-TTL:PT1H
BEGIN:VTIMEZONE
TZID:Europe/Madrid
BEGIN:DAYLIGHT
TZOFFSETFROM:+0100
TZOFFSETTO:+0200
TZNAME:CEST
DTSTART:20260329T010000
END:DAYLIGHT
BEGIN:STANDARD
TZOFFSETFROM:+0200
TZOFFSETTO:+0100
TZNAME:CET
DTSTART:20261025T010000
END:STANDARD
END:VTIMEZONE
BEGIN:VEVENT
DTSTART;TZID=Europe/Madrid:20260211T090000
DTEND;TZID=Europe/Madrid:20260211T150000
DTSTAMP:20260423T055748
CREATED:20250527T080634Z
LAST-MODIFIED:20260309T102043Z
UID:10000007-1770800400-1770822000@emempleoverdeyoficios.madrid.es
SUMMARY:Curso de Instalación de Tuberías
DESCRIPTION:¿Te interesa aprender un oficio práctico\, con alta demanda y opciones reales de empleo? Este itinerario formativo te prepara para trabajar en el sector de la fontanería y la climatización con una formación práctica y especializada en instalación de tuberías\, una ocupación imprescindible en múltiples sectores técnicos y de obra. \n¿A quién va dirigido?\nPersonas menores de 30 años\, desempleadas e inscritas como demandantes de empleo en la Comunidad de Madrid\, con interés en trabajos manuales\, ganas de aprender un oficio técnico y sin experiencia previa en la ocupación. \nDuración\, modalidad y fechas\n\nTotal: 180 horas (140 h formación + 40 h prácticas en empresa)\nComienzo: 11 de febrero de 2026\nModalidad: Presencial\nHorario: 6 h al día (turno de mañana)\nLugar: EMEVO\nTeléfono: 689 43 91 90\nEmail: emempleoverdeyoficios@madrid.esLas fechas y horarios son orientativos y pueden sufrir modificaciones.\n\n¿Qué vas a aprender?\nEste curso combina formación técnica especializada (hard skills)\, competencias transversales (soft skills) y prácticas reales en empresa. Al finalizar serás capaz de: \n\nReplantear\, preparar y manipular tuberías de distintos materiales.\nInterpretar planos\, croquis y esquemas de instalaciones.\nUtilizar herramientas manuales y eléctricas para el corte\, curvado y ensamblaje.\nInstalar redes de agua caliente\, fría\, desagües y aguas pluviales.\nAplicar técnicas de soldadura\, sellado y unión de tuberías.\nRealizar pruebas de estanqueidad y aislamiento de redes.\nSeguir protocolos de seguridad y aplicar buenas prácticas medioambientales.\n\nIncluye formación en prevención de riesgos laborales en fontanería y climatización. \nRequisitos de acceso\nImprescindible cumplir con TODOS los siguientes requisitos: \n\nPersona inscrita como demandante de empleo en la Comunidad de Madrid.\nContar con empadronamiento preferentemente en el municipio de Madrid.\nIdioma Castellano B1.\nSer mayor de 18 años y menor de 30 años.\nEstar inscrito/a en Garantía Juvenil.\nNo tener experiencia laboral de más de 6 meses en el sector.\nNo haber cursado estudios en esta rama.\nCompromiso con la seguridad en obra.\n\nSe valorará: \n\nInterés en trabajos manuales y técnicos.\nHabilidad y predisposición para usar herramientas y materiales.\n\nFormación práctica en empresa\nTras completar la parte teórica (140 horas)\, realizarás un mínimo de 40 horas de prácticas tutorizadas\, donde podrás aplicar lo aprendido en entornos reales y facilitar tu incorporación al mundo laboral. \nIMPORTANTE: Tras la formación\, se escogerán un grupo de alumnos entre los que hayan obtenido la mejor calificación\, para continuar con un contrato de formación en alternancia para el empleo\, de 12 meses de duración con seguimiento y tutorización de Agremia (65% de la jornada en la empresa y 35% en la escuela técnica de Agremia) dentro del proyecto de Formación Dual en Mantenimiento y Climatización “Creando Cantera”. \nContenidos destacados\n\nReplanteo y preparación de tuberías\nInterpretación de planos y dibujo técnico\nManejo de herramientas y maquinaria de fontanería\nDimensionado de instalaciones y normativa CTE\nCorte\, curvado\, ensamblaje y unión de tuberías\nTécnicas de soldadura (blanda\, fuerte\, química\, roscado\, termofusión)\nAislamiento\, sellado y pruebas de estanqueidad\nPrevención de riesgos laborales (PRL)\nSensibilización ambiental y buenas prácticas\n\nSalidas profesionales\nUna vez finalizado el curso estarás preparado/a para trabajar como: \n\nFontanero/a instalador-mantenedor/a\nInstalador/a de tuberías en general\nMantenedor/a de calefacción y climatización\nTécnico/a en redes de riego\, fuentes decorativas o contra incendios\n\n¿Por qué elegir este curso?\n✔ Formación 100% gratuita✔ Acceso a prácticas reales✔ Posibilidad de contratación al finalizar✔ Docentes especializados y formación orientada al empleo \n¿Listo/a para dar el paso hacia un oficio con futuro?📩 Inscríbete ahora y fórmate para trabajar donde se necesitan personas como tú.
URL:https://emempleoverdeyoficios.madrid.es/programa/curso-de-instalacion-de-tuberias-y-climatizacion/
LOCATION:EMEVO\, Calle Ginebro 1\, Madrid\, 28041
CATEGORIES:Fontanería
ATTACH;FMTTYPE=image/jpeg:https://emempleoverdeyoficios.madrid.es/wp-content/uploads/2025/05/fontanero-arreglando-grifo.jpg
ORGANIZER;CN="EMEVO":MAILTO:emempleoverdeyoficios@madrid.es
END:VEVENT
END:VCALENDAR