BEGIN:VCALENDAR
VERSION:2.0
PRODID:-//EMEVO - ECPv6.13.1//NONSGML v1.0//EN
CALSCALE:GREGORIAN
METHOD:PUBLISH
X-ORIGINAL-URL:https://emempleoverdeyoficios.madrid.es
X-WR-CALDESC:Eventos para EMEVO
REFRESH-INTERVAL;VALUE=DURATION:PT1H
X-Robots-Tag:noindex
X-PUBLISHED-TTL:PT1H
BEGIN:VTIMEZONE
TZID:Europe/Madrid
BEGIN:DAYLIGHT
TZOFFSETFROM:+0100
TZOFFSETTO:+0200
TZNAME:CEST
DTSTART:20260329T010000
END:DAYLIGHT
BEGIN:STANDARD
TZOFFSETFROM:+0200
TZOFFSETTO:+0100
TZNAME:CET
DTSTART:20261025T010000
END:STANDARD
END:VTIMEZONE
BEGIN:VEVENT
DTSTART;TZID=Europe/Madrid:20260527T090000
DTEND;TZID=Europe/Madrid:20260527T140000
DTSTAMP:20260424T161610
CREATED:20250701T083029Z
LAST-MODIFIED:20260424T103017Z
UID:10000017-1779872400-1779890400@emempleoverdeyoficios.madrid.es
SUMMARY:Curso de Trabajos Encofrados
DESCRIPTION:¿Te gustaría aprender un oficio con demanda y trabajar en el sector de la construcción? Especialízate en encofrados y estructuras auxiliares y conviértete en un perfil clave para obras de edificación e infraestructuras. Aprende a montar encofrados\, apeos y entibaciones con seguridad y precisión. ¡Haz de tus manos tu herramienta de futuro! \n¿A quién va dirigido este curso?\nEste curso está pensado para ti si estás en situación de desempleo\, eres mayor de 18 años y te interesa trabajar en la construcción como oficial o peón especializado. \nIdeal para personas con interés en trabajos manuales\, montaje de estructuras\, albañilería o mantenimiento de obras. \nNo necesitas experiencia previa\, solo compromiso\, responsabilidad y ganas de aprender un oficio técnico muy valorado. \nDuración\, modalidad y fechas\n\nTotal: 120 h (+ 50 h prácticas en empresa)\nComienzo: 27 de mayo del 2026\nModalidad: Presencial\nHorario: 5 h al día (turno de mañana\, 09:00 h – 14:00 h)\nLugar: EMEVO / FLC Vicálvaro (Madrid)\nTeléfono: 689 43 91 90\nEmail: emempleoverdeyoficios@madrid.esLas fechas y horarios son orientativos y pueden sufrir modificaciones.\n\n¿Qué vas a aprender?\nAprenderás las técnicas\, herramientas y medidas de seguridad necesarias para ejecutar trabajos de encofrados\, apeo y entibación en obra. Al finalizar sabrás: \n\nInterpretar planos técnicos y organizar el trabajo de obra.\nMontar y desmontar encofrados de madera\, metálicos y especiales.\nUtilizar útiles\, herramientas manuales y maquinaria auxiliar.\nEjecutar apeos y entibaciones según el tipo de terreno.\nAplicar la normativa vigente de prevención de riesgos laborales.\nConservar adecuadamente materiales y medios de protección.\nTrabajar en equipo y desarrollar tu autonomía profesional.\n\nRequisitos de acceso\nImprescindible:\n\nPersona inscrita como demandante de empleo en la Comunidad de Madrid.\nContar con empadronamiento preferentemente en el municipio de Madrid.\nIdioma Castellano B1.\nSer mayor de 18 años.\n\nSe valorará:\n\nInterés en el sector de la construcción o montaje estructural.\nBuena actitud y predisposición para el trabajo físico.\nHabilidad o curiosidad por el uso de herramientas manuales.\nCompromiso con las normas de seguridad en obra.\n\nFormación práctica en empresa\nUna vez finalices la formación teórica (120h)\, realizarás 50 horas de prácticas tutorizadas en empresas del sector\, donde podrás aplicar lo aprendido y mejorar tu empleabilidad. \nContenidos del programa\nMódulo Hard Skills – Habilidades técnicas (100 h)\nMontaje de encofrados y estructuras auxiliares:\n\nTipos de encofrados: madera\, metálicos\, perdidos\, especiales.\nMontaje y desmontaje de cimbras.\nSistemas modernos de encofrado.\nTécnicas de desencofrado y descimbrado.\nEjecución de apeos y entibaciones.\nInterpretación de planos técnicos de obra.\nManipulación de herramientas\, maquinaria y medios auxiliares.\n\nSeguridad y habilidades transversales:\n\nPrevención de riesgos laborales específica para encofrados.\nUso de EPIs y protección colectiva.\nConservación de herramientas y equipos.\nTrabajo en equipo y responsabilidad en obra.\n\nMódulo Soft Skills – Formación transversal (20 h)\n\n\nPrevención de Riesgos Laborales para trabajos de encofrado – 20 h \n\n\nSalidas profesionales\nUna vez superado el itinerario\, podrás optar a puestos como: \n\nOficial/a de 2ª o peón/a especializado/a en encofrados.\nOperario/a de estructuras de hormigón y cimentación.\nAyudante en empresas de construcción\, reformas o grandes obras.\nTécnico/a de apoyo en montaje de estructuras auxiliares.\n\n¿Por qué elegir este curso?\n✔ Formación gratuita financiada por el Ayuntamiento de Madrid✔ Oficio con alta demanda en el sector de la construcción✔ Prácticas reales en empresa y posibilidad de contratación✔ Aprendizaje práctico y centrado en la realidad del trabajo en obra✔ Acompañamiento personalizado durante el itinerario
URL:https://emempleoverdeyoficios.madrid.es/programa/encofrados/
LOCATION:EMEVO\, Calle Ginebro 1\, Madrid\, 28041
CATEGORIES:Construcción
ATTACH;FMTTYPE=image/jpeg:https://emempleoverdeyoficios.madrid.es/wp-content/uploads/2025/07/operario-de-enconfrados.jpg
ORGANIZER;CN="EMEVO":MAILTO:emempleoverdeyoficios@madrid.es
END:VEVENT
END:VCALENDAR