BEGIN:VCALENDAR
VERSION:2.0
PRODID:-//EMEVO - ECPv6.13.1//NONSGML v1.0//EN
CALSCALE:GREGORIAN
METHOD:PUBLISH
X-ORIGINAL-URL:https://emempleoverdeyoficios.madrid.es
X-WR-CALDESC:Eventos para EMEVO
REFRESH-INTERVAL;VALUE=DURATION:PT1H
X-Robots-Tag:noindex
X-PUBLISHED-TTL:PT1H
BEGIN:VTIMEZONE
TZID:Europe/Madrid
BEGIN:DAYLIGHT
TZOFFSETFROM:+0100
TZOFFSETTO:+0200
TZNAME:CEST
DTSTART:20260329T010000
END:DAYLIGHT
BEGIN:STANDARD
TZOFFSETFROM:+0200
TZOFFSETTO:+0100
TZNAME:CET
DTSTART:20261025T010000
END:STANDARD
END:VTIMEZONE
BEGIN:VEVENT
DTSTART;TZID=Europe/Madrid:20260120T100000
DTEND;TZID=Europe/Madrid:20260120T120000
DTSTAMP:20260423T014213
CREATED:20260116T114456Z
LAST-MODIFIED:20260202T100213Z
UID:10000027-1768903200-1768910400@emempleoverdeyoficios.madrid.es
SUMMARY:Visita a nuestra Escuela del Espacio de Igualdad María de Maeztu
DESCRIPTION:Sesión informativa para mujeres del Espacio de Igualdad María de Maeztu\nEl próximo martes 20 de enero\, la Escuela Municipal de Empleo Verde y Oficios acogerá una sesión informativa dirigida a mujeres del Espacio de Igualdad María de Maeztu\, con el objetivo de dar a conocer las formaciones que ofrecemos y acercar las oportunidades profesionales del sector de los oficios y la construcción. \n📅 Información del evento\n\nFecha: Martes\, 20 de enero de 2026\nHorario: De 10:00 a 12:00 horas\nDuración: 2 horas\nLugar: Instalaciones de la Escuela Municipal de Empleo Verde y Oficios\n📍 Calle Ginebro\, 1 – Madrid\n\n🎯 ¿En qué consiste la sesión?\nSe trata de una sesión informativa y participativa diseñada para que las asistentes puedan conocer el proyecto de la EMEVO\, informarse sobre las formaciones gratuitas que se imparten en la Escuela y sus salidas profesionales\, conocer al equipo técnico\, generar un espacio de encuentro y diálogo con las participantes\, desmitificar prejuicios asociados al sector de la construcción y los oficios tradicionalmente masculinizados\, y realizar una visita guiada por las instalaciones\, para conocer de primera mano los espacios formativos y talleres. \nEsta actividad busca generar sinergias\, fomentar el interés por los oficios\, y abrir nuevas oportunidades profesionales para las mujeres\, en un entorno cercano\, accesible y participativo. \n📞 Información e inscripciones:\n\nTeléfono: 910 228 256\nCorreo electrónico: mariademaeztu6@madrid.es
URL:https://emempleoverdeyoficios.madrid.es/programa/visita-a-la-escuela-municipal-de-empleo-verde-y-oficios-del-espacio-de-igualdad-maria-de-maeztu/
LOCATION:EMEVO\, Calle Ginebro 1\, Madrid\, 28041
ATTACH;FMTTYPE=image/png:https://emempleoverdeyoficios.madrid.es/wp-content/uploads/2026/01/20ene_visita-a-la-escuela-municipal-empleo-verde-y-oficios_MM.png
ORGANIZER;CN="EMEVO":MAILTO:emempleoverdeyoficios@madrid.es
END:VEVENT
END:VCALENDAR