BEGIN:VCALENDAR
VERSION:2.0
PRODID:-//EMEVO - ECPv6.13.1//NONSGML v1.0//EN
CALSCALE:GREGORIAN
METHOD:PUBLISH
X-ORIGINAL-URL:https://emempleoverdeyoficios.madrid.es
X-WR-CALDESC:Eventos para EMEVO
REFRESH-INTERVAL;VALUE=DURATION:PT1H
X-Robots-Tag:noindex
X-PUBLISHED-TTL:PT1H
BEGIN:VTIMEZONE
TZID:Europe/Madrid
BEGIN:DAYLIGHT
TZOFFSETFROM:+0100
TZOFFSETTO:+0200
TZNAME:CEST
DTSTART:20250330T010000
END:DAYLIGHT
BEGIN:STANDARD
TZOFFSETFROM:+0200
TZOFFSETTO:+0100
TZNAME:CET
DTSTART:20251026T010000
END:STANDARD
BEGIN:DAYLIGHT
TZOFFSETFROM:+0100
TZOFFSETTO:+0200
TZNAME:CEST
DTSTART:20260329T010000
END:DAYLIGHT
BEGIN:STANDARD
TZOFFSETFROM:+0200
TZOFFSETTO:+0100
TZNAME:CET
DTSTART:20261025T010000
END:STANDARD
END:VTIMEZONE
BEGIN:VEVENT
DTSTART;TZID=Europe/Madrid:20260417T090000
DTEND;TZID=Europe/Madrid:20260417T120000
DTSTAMP:20260423T014344
CREATED:20260413T110004Z
LAST-MODIFIED:20260413T112328Z
UID:10000035-1776416400-1776427200@emempleoverdeyoficios.madrid.es
SUMMARY:Visita del programa “Tres\, Dos\, Uno… ¡Despega!” a nuestra Escuela
DESCRIPTION:La Escuela Municipal de Empleo Verde y Oficios recibirá la visita del programa “Tres\, Dos\, Uno… ¡Despega!”\, una iniciativa piloto de activación laboral para jóvenes que no estudian ni trabajan\, desarrollada en el marco del proyecto europeo NETPES. \nEn esta jornada acudirán las personas coordinadoras del programa para conocer las instalaciones y el trabajo que se desarrolla en la Escuela\, junto a jóvenes participantes del programa. \n👥 Sobre el programa\n“Tres\, Dos\, Uno… ¡Despega!” está dirigido a jóvenes de entre 18 y 29 años\, que participan en un itinerario intensivo de un mes\, que combina sesiones grupales y acompañamiento individualizado\, con el apoyo del personal técnico de orientación e intermediación laboral de la Agencia para el Empleo. \n🧩 Metodologías y contenidos\nEl programa incorpora herramientas innovadoras orientadas a mejorar la empleabilidad juvenil: \n\nDinámicas como Escape Room de competencias\nTalleres de descubrimiento de talento\nElaboración de CV con Inteligencia Artificial\nTutorías personalizadas\nGestión directa de ofertas de empleo\n\nEsta visita permitirá compartir experiencias\, generar sinergias y dar a conocer los recursos formativos de la Escuela\, reforzando la colaboración entre iniciativas que impulsan el acceso de la juventud al empleo.
URL:https://emempleoverdeyoficios.madrid.es/programa/visita-del-programa-tres-dos-uno-despega-a-nuestra-escuela/
LOCATION:EMEVO\, Calle Ginebro 1\, Madrid\, 28041
ATTACH;FMTTYPE=image/jpeg:https://emempleoverdeyoficios.madrid.es/wp-content/uploads/2026/04/658414915_18121391149722568_988904615741013833_n.jpg
ORGANIZER;CN="EMEVO":MAILTO:emempleoverdeyoficios@madrid.es
END:VEVENT
BEGIN:VEVENT
DTSTART;VALUE=DATE:20260415
DTEND;VALUE=DATE:20260416
DTSTAMP:20260423T014344
CREATED:20260410T112829Z
LAST-MODIFIED:20260413T100035Z
UID:10000034-1776211200-1776297599@emempleoverdeyoficios.madrid.es
SUMMARY:Feria de Empleo Verde 2026 - Impulsa Empleo Verde
DESCRIPTION:Participamos en la Feria de Empleo Verde 2026\n📅 15 de abril de 2026 | 🕙 10:00 h | 💻 Evento online \nLa Escuela Municipal de Empleo Verde y Oficios participará en la Feria de Empleo Verde 2026 – Impulsa Empleo Verde\, una feria estatal de empleo en formato online  organizada por  Fundación Santa María la Real y orientada a favorecer la conexión entre personas en desempleo —especialmente de colectivos vulnerables— y empresas de los sectores verdes\, además de impulsar la colaboración entre administraciones públicas\, empresas\, entidades y centros formativos. \nEsta iniciativa\, enmarcada en el programa Impulsa Empleo Verde\, celebra su segunda edición tras el éxito de la convocatoria anterior\, en la que participaron más de 520 personas. \nEn esta edición\, la feria pone el foco en sectores con alta proyección laboral y clave para la transición ecológica: Energías Renovables\, Eficiencia Energética y Economía Circular. \nNuestra participación en este encuentro supone una oportunidad para dar a conocer la formación que ofrecemos\, y seguir impulsando el acceso al empleo verde\, contribuyendo al desarrollo de un mercado laboral más sostenible e inclusivo.
URL:https://emempleoverdeyoficios.madrid.es/programa/feria-de-empleo-verde-2026-impulsa-empleo-verde/
LOCATION:EMEVO\, Calle Ginebro 1\, Madrid\, 28041
ATTACH;FMTTYPE=image/png:https://emempleoverdeyoficios.madrid.es/wp-content/uploads/2026/04/logo_impulsa_ev.png
END:VEVENT
BEGIN:VEVENT
DTSTART;TZID=Europe/Madrid:20260319T090000
DTEND;TZID=Europe/Madrid:20260319T140000
DTSTAMP:20260423T014344
CREATED:20260312T111137Z
LAST-MODIFIED:20260312T111710Z
UID:10000031-1773910800-1773928800@emempleoverdeyoficios.madrid.es
SUMMARY:La Unidad Móvil de la Agencia para el Empleo llega a la EMEVO
DESCRIPTION:¡El Bus del Empleo llega a la EMEVO!\nSeguimos acercando los servicios públicos a la ciudadanía. Por eso\, desde la Agencia para el Empleo del Ayuntamiento de Madrid se vuelve a poner en marcha la unidad móvil\, un recurso itinerante para ayudar a las personas que están buscando trabajo. \n💼 ¿Qué encontrarás?\n\nOrientación laboral especializada.\nFormación personalizada.\nAcceso a bolsa de empleo.\n\n🗓️Fecha: Te esperamos el 19 de marzo.\n📍Lugar: C/ Eduardo Barreiros\, esquina con Ginebro.\n🕘Horario: 9:00 – 14:00\n✅ Servicio gratuito\n❗ Sin cita previa (atención por orden de llegada) \nEste recurso gratuito está pensado especialmente para quienes más lo necesitan. \n¡Acércate y encuentra tu próxima oportunidad laboral!
URL:https://emempleoverdeyoficios.madrid.es/programa/la-unidad-movil-de-la-agencia-para-el-empleo-llega-a-la-emevo/
LOCATION:EMEVO\, Calle Ginebro 1\, Madrid\, 28041
ATTACH;FMTTYPE=image/jpeg:https://emempleoverdeyoficios.madrid.es/wp-content/uploads/2026/03/IMG_3531-scaled.jpg
ORGANIZER;CN="EMEVO":MAILTO:emempleoverdeyoficios@madrid.es
END:VEVENT
BEGIN:VEVENT
DTSTART;TZID=Europe/Madrid:20260312T090000
DTEND;TZID=Europe/Madrid:20260312T210000
DTSTAMP:20260423T014344
CREATED:20260312T114904Z
LAST-MODIFIED:20260312T122650Z
UID:10000032-1773306000-1773349200@emempleoverdeyoficios.madrid.es
SUMMARY:Nuestra Escuela de Formación en el Periódico 'El Mundo'
DESCRIPTION:Nuestra 𝐄𝐬𝐜𝐮𝐞𝐥𝐚 𝐌𝐮𝐧𝐢𝐜𝐢𝐩𝐚𝐥 𝐝𝐞 𝐅𝐨𝐫𝐦𝐚𝐜𝐢𝐨́𝐧 en el Periódico ‘𝐄𝐥 𝐌𝐮𝐧𝐝𝐨’\nHoy\, cuatro de nuestras alumnas le cuentan a la sección GRAN MADRID de este periódico\, su paso por la Escuela Municipal de Hostelería y Alimentación\, y por la Escuela Municipal de Empleo Verde y Oficios. \nNuestra alumna\, Lorena Karolina\, venezolana de 45 años\, cuenta su historia. Desde como le costó encontrar trabajo al principio\, hasta cuando realizó el curso de Construcción de Superestructura de Vías en Obras Hormigonadas ofrecido por nuestra Escuela de Empleo Verde y Oficios\, en colaboración con la empresa Comsa. Tras terminarlo empezó a trabajar en las obras del metro de San Sebastián\, donde ahora es oficial y tiene contrato indefinido. \nCuenta orgullosa desde su puesto de trabajo\, cómo logró esta inserción laboral\, gracias a esta oportunidad de formación del Ayuntamiento de Madrid\, pionera en España. \n🌏Os dejamos la noticia completa aquí: La escuela municipal de Madrid que emplea a más del 50% de sus alumnos: «Quise cambiar de vida y trabajar con los mejores en la ciudad de las oportunidades» | Madrid
URL:https://emempleoverdeyoficios.madrid.es/programa/nuestra-escuela-de-formacion-en-el-periodico-el-mundo/
LOCATION:EMEVO\, Calle Ginebro 1\, Madrid\, 28041
ATTACH;FMTTYPE=image/jpeg:https://emempleoverdeyoficios.madrid.es/wp-content/uploads/2026/03/Noticia-El-Mundo.jpg
ORGANIZER;CN="EMEVO":MAILTO:emempleoverdeyoficios@madrid.es
END:VEVENT
BEGIN:VEVENT
DTSTART;TZID=Europe/Madrid:20260128T173000
DTEND;TZID=Europe/Madrid:20260128T190000
DTSTAMP:20260423T014344
CREATED:20260129T101939Z
LAST-MODIFIED:20260129T101939Z
UID:10000030-1769621400-1769626800@emempleoverdeyoficios.madrid.es
SUMMARY:Presentación del Proyecto 'Creando Cantera' en la Escuela Municipal de Empleo Verde y Oficios
DESCRIPTION:Jornada informativa del Proyecto ‘Creando Cantera’ en la Escuela Municipal de Empleo Verde y Oficios\nHemos tenido\, de nuevo\, la oportunidad de acompañar a AGREMIA en la presentación del Proyecto “Creando Cantera” a sus empresas asociadas\, una iniciativa que apuesta por la Formación Dual como vía de acceso al empleo para jóvenes menores de 30 años y por el relevo generacional en el sector. \nEn esta ocasión\, la jornada se ha celebrado en las instalaciones de la Escuela Municipal de Empleo Verde y Oficios\, entidad colaboradora de AGREMIA en este proyecto\, donde las empresas asistentes han podido conocer de primera mano los espacios formativos y el enfoque del programa. \nDurante el mes de febrero dará comienzo la segunda edición del Itinerario de Instalación de Tuberías\, concebido como formación previa a la incorporación a la empresa\, con contratos de formación en alternancia\, desarrollados entre la empresa y la Escuela Técnica de AGREMIA. De esta manera se refuerza así la cualificación profesional\, y la empleabilidad de las personas participantes. \nDesde la Escuela Municipal de Empleo Verde y Oficios queremos agradecer a las empresas asistentes su interés y compromiso\, y su disposición a formar parte de un proyecto que impulsa el talento joven y contribuye a la transformación y sostenibilidad del sector. \nGracias a las empresas por querer ser parte del cambio.
URL:https://emempleoverdeyoficios.madrid.es/programa/presentacion-del-proyecto-creando-cantera-en-la-escuela-municipal-de-empleo-verde-y-oficios/
LOCATION:EMEVO\, Calle Ginebro 1\, Madrid\, 28041
ATTACH;FMTTYPE=image/jpeg:https://emempleoverdeyoficios.madrid.es/wp-content/uploads/2026/01/IMG_2974.jpg
ORGANIZER;CN="EMEVO":MAILTO:emempleoverdeyoficios@madrid.es
END:VEVENT
BEGIN:VEVENT
DTSTART;TZID=Europe/Madrid:20260120T100000
DTEND;TZID=Europe/Madrid:20260120T120000
DTSTAMP:20260423T014344
CREATED:20260116T114456Z
LAST-MODIFIED:20260202T100213Z
UID:10000027-1768903200-1768910400@emempleoverdeyoficios.madrid.es
SUMMARY:Visita a nuestra Escuela del Espacio de Igualdad María de Maeztu
DESCRIPTION:Sesión informativa para mujeres del Espacio de Igualdad María de Maeztu\nEl próximo martes 20 de enero\, la Escuela Municipal de Empleo Verde y Oficios acogerá una sesión informativa dirigida a mujeres del Espacio de Igualdad María de Maeztu\, con el objetivo de dar a conocer las formaciones que ofrecemos y acercar las oportunidades profesionales del sector de los oficios y la construcción. \n📅 Información del evento\n\nFecha: Martes\, 20 de enero de 2026\nHorario: De 10:00 a 12:00 horas\nDuración: 2 horas\nLugar: Instalaciones de la Escuela Municipal de Empleo Verde y Oficios\n📍 Calle Ginebro\, 1 – Madrid\n\n🎯 ¿En qué consiste la sesión?\nSe trata de una sesión informativa y participativa diseñada para que las asistentes puedan conocer el proyecto de la EMEVO\, informarse sobre las formaciones gratuitas que se imparten en la Escuela y sus salidas profesionales\, conocer al equipo técnico\, generar un espacio de encuentro y diálogo con las participantes\, desmitificar prejuicios asociados al sector de la construcción y los oficios tradicionalmente masculinizados\, y realizar una visita guiada por las instalaciones\, para conocer de primera mano los espacios formativos y talleres. \nEsta actividad busca generar sinergias\, fomentar el interés por los oficios\, y abrir nuevas oportunidades profesionales para las mujeres\, en un entorno cercano\, accesible y participativo. \n📞 Información e inscripciones:\n\nTeléfono: 910 228 256\nCorreo electrónico: mariademaeztu6@madrid.es
URL:https://emempleoverdeyoficios.madrid.es/programa/visita-a-la-escuela-municipal-de-empleo-verde-y-oficios-del-espacio-de-igualdad-maria-de-maeztu/
LOCATION:EMEVO\, Calle Ginebro 1\, Madrid\, 28041
ATTACH;FMTTYPE=image/png:https://emempleoverdeyoficios.madrid.es/wp-content/uploads/2026/01/20ene_visita-a-la-escuela-municipal-empleo-verde-y-oficios_MM.png
ORGANIZER;CN="EMEVO":MAILTO:emempleoverdeyoficios@madrid.es
END:VEVENT
BEGIN:VEVENT
DTSTART;TZID=Europe/Madrid:20251007T120000
DTEND;TZID=Europe/Madrid:20251007T140000
DTSTAMP:20260423T014344
CREATED:20251010T085241Z
LAST-MODIFIED:20251010T085903Z
UID:10000023-1759838400-1759845600@emempleoverdeyoficios.madrid.es
SUMMARY:Programa Camino al Empleo
DESCRIPTION:La Escuela Municipal de Empleo Verde y Oficios ha reunido el pasado 7 de octubre en sus instalaciones a numerosas entidades colaboradoras del programa CAMINO AL EMPLEO con la participación del Gerente de la AEM\, Pepe Aniorte\, fruto de los convenios firmados entre entidades sociales colaboradoras y la Agencia para el Empleo del Ayuntamiento de Madrid.  \n📅 Martes 07 de octubre🕚 12:00 h📍 Escuela Municipal de Empleo Verde y Oficios – Calle Ginebro\, 1. \n¿Qué es Camino al Empleo?\nCamino al Empleo es un Programa de la AEM cuyo objetivo es mejorar la empleabilidad de personas desempleadas y empadronadas en el municipio de Madrid\, en situación de vulnerabilidad\, exclusión o riesgo de exclusión social. \nJuntos creamos sinergias.
URL:https://emempleoverdeyoficios.madrid.es/programa/programa-camino-al-empleo/
LOCATION:EMEVO\, Calle Ginebro 1\, Madrid\, 28041
ATTACH;FMTTYPE=image/jpeg:https://emempleoverdeyoficios.madrid.es/wp-content/uploads/2025/10/IMG_0170-scaled.jpg
END:VEVENT
BEGIN:VEVENT
DTSTART;TZID=Europe/Madrid:20250915T100000
DTEND;TZID=Europe/Madrid:20250915T120000
DTSTAMP:20260423T014344
CREATED:20250911T122652Z
LAST-MODIFIED:20250911T122731Z
UID:10000020-1757930400-1757937600@emempleoverdeyoficios.madrid.es
SUMMARY:Open Day - Escuela Municipal de Empleo Verde y Oficios
DESCRIPTION:OPEN DAY · Escuela Municipal de Empleo Verde y Oficios\n¡Abrimos las puertas! 🚪💚 \n¿Buscas formación gratuita\, práctica y con posibilidad real de contratación en oficios con demanda? Este 15 de septiembre\, de 10:00 a 12:00\, te esperamos en nuestra Jornada de Puertas Abiertas. Ven\, conoce nuestras instalaciones\, recibe asesoramiento personalizado y apúntate en el momento al curso que mejor encaje contigo. \n¿Por qué venir?\n\nFormación 100% gratuita orientada al empleo.\nEmpresas colaboradoras y prácticas en entornos reales.\nItinerarios en oficios con alta inserción (electricidad\, domótica\, construcción sostenible\, mantenimiento\, encofrado\, grúa torre\, instalación de tuberías\, etc.).\nEquipo de orientación que te ayuda a elegir tu ruta profesional.\n\n¿Qué podrás hacer en el Open Day?\n\nVisitar talleres e instalaciones.\nResolver dudas sobre requisitos\, plazas y salidas laborales.\nInscribirte directamente a las formaciones activas.\nLlevarte un plan de acción para empezar ya.\n\nCuándo y dónde\n\nFecha: Lunes 15 de septiembre\nHorario: 10:00–12:00\nLugar: Escuela Municipal de Empleo Verde y Oficios — Calle Ginebro\, 1\n\nCómo participar\n\nEntrada libre hasta completar aforo.\n\n¡Te esperamos!\nDa el primer paso hacia un oficio con futuro. Ven\, decide y empieza.
URL:https://emempleoverdeyoficios.madrid.es/programa/open-day-escuela-empleo-verde/
LOCATION:EMEVO\, Calle Ginebro 1\, Madrid\, 28041
ATTACH;FMTTYPE=image/jpeg:https://emempleoverdeyoficios.madrid.es/wp-content/uploads/2025/09/open-day-escuela-empleo-verde.jpg
ORGANIZER;CN="EMEVO":MAILTO:emempleoverdeyoficios@madrid.es
END:VEVENT
BEGIN:VEVENT
DTSTART;TZID=Europe/Madrid:20250423T120000
DTEND;TZID=Europe/Madrid:20250423T140000
DTSTAMP:20260423T014344
CREATED:20250423T145504Z
LAST-MODIFIED:20251010T080542Z
UID:10000006-1745409600-1745416800@emempleoverdeyoficios.madrid.es
SUMMARY:Proyecto Women Can Build
DESCRIPTION:¿Sabías que el sector de la construcción también puede ser un espacio de igualdad\, innovación y futuro profesional para las mujeres? \nTe invitamos a conocer de cerca el proyecto europeo “WOMEN CAN BUILD” (Las mujeres pueden construir)\, una iniciativa que impulsa la igualdad de género en el ámbito de la construcción y que busca romper estereotipos para abrir nuevas oportunidades laborales a mujeres en situación de desempleo\, riesgo de exclusión social o paro de larga duración. \n📅 Martes 23 de abril🕚 11:00 h📍 Escuela Municipal de Empleo Verde y Oficios – Calle Ginebro\, 1. \nEste proyecto\, liderado por la Fundación Laboral de la Construcción con la Agencia para el Empleo de Madrid como entidad socia\, tiene un objetivo claro: transformar la Formación Profesional y el sector de la construcción para que sean más igualitarios\, inclusivos y atractivos para las mujeres. \n¿Qué objetivos persigue Women Can Build?\n\n\nPromover un cambio de mirada en el sector: más justo\, moderno y socialmente responsable. \n\n\nAtraer a mujeres al sector\, visibilizando sus oportunidades reales de empleo. \n\n\nOfrecer formación profesional con enfoque de género para centros\, docentes y empresas. \n\n\nFormar a formadores y formadoras en competencias inclusivas. \n\n\nReconocer buenas prácticas que puedan replicarse en otros sectores y países. \n\n\nActividades destacadas del proyecto\n\n\nCreación de cursos online (MOOC) para formar en igualdad a docentes y profesionales del sector. \n\n\nElaboración de guías prácticas para el acompañamiento y tutoría de mujeres en formación. \n\n\nExperiencias reales de aprendizaje activo: grupos de mujeres construyen un Edificio de Energía Casi Nula aplicando técnicas de eficiencia energética y energías renovables. \n\n\nApoyo a empresas para diseñar hojas de ruta con servicios que favorezcan la integración laboral de las mujeres en la construcción. \n\n\nUn proyecto Erasmus+ con impacto europeo\n“Women Can Build” es un ejemplo de buena práctica internacional\, que puede replicarse en otros países\, sectores y realidades. Una forma de demostrar que\, con formación y compromiso\, las mujeres sí pueden construir el futuro.
URL:https://emempleoverdeyoficios.madrid.es/programa/proyecto-women-can-build/
LOCATION:EMEVO\, Calle Ginebro 1\, Madrid\, 28041
ATTACH;FMTTYPE=image/jpeg:https://emempleoverdeyoficios.madrid.es/wp-content/uploads/2025/04/proyecto-women-can-build.jpg
ORGANIZER;CN="EMEVO":MAILTO:emempleoverdeyoficios@madrid.es
END:VEVENT
END:VCALENDAR