BEGIN:VCALENDAR
VERSION:2.0
PRODID:-//EMEVO - ECPv6.13.1//NONSGML v1.0//EN
CALSCALE:GREGORIAN
METHOD:PUBLISH
X-ORIGINAL-URL:https://emempleoverdeyoficios.madrid.es
X-WR-CALDESC:Eventos para EMEVO
REFRESH-INTERVAL;VALUE=DURATION:PT1H
X-Robots-Tag:noindex
X-PUBLISHED-TTL:PT1H
BEGIN:VTIMEZONE
TZID:Europe/Madrid
BEGIN:DAYLIGHT
TZOFFSETFROM:+0100
TZOFFSETTO:+0200
TZNAME:CEST
DTSTART:20260329T010000
END:DAYLIGHT
BEGIN:STANDARD
TZOFFSETFROM:+0200
TZOFFSETTO:+0100
TZNAME:CET
DTSTART:20261025T010000
END:STANDARD
END:VTIMEZONE
BEGIN:VEVENT
DTSTART;TZID=Europe/Madrid:20260603T090000
DTEND;TZID=Europe/Madrid:20260603T140000
DTSTAMP:20260424T190036
CREATED:20260327T100823Z
LAST-MODIFIED:20260416T105036Z
UID:10000033-1780477200-1780495200@emempleoverdeyoficios.madrid.es
SUMMARY:Curso de Oficial de Saneamiento
DESCRIPTION:Fórmate para trabajar como oficial de saneamiento\, un oficio esencial dentro del mantenimiento de las ciudades. Este itinerario te permitirá adquirir los conocimientos técnicos necesarios para participar en proyectos de saneamiento urbano y edificación\, interpretando planos\, ejecutando redes de drenaje y saneamiento\, y aplicando las medidas de seguridad y calidad exigidas en obra. \n¿A quién va dirigido?\nPersonas mayores de 18 años\, desempleadas e inscritas como demandantes de empleo en la Comunidad de Madrid\, con interés en trabajos manuales\, y predisposición para el manejo de herramientas. \nDuración\, modalidad y fechas\n\nTotal: 200 horas (+ 50 h prácticas en empresa)\nComienzo: 03 de junio de 2026\nModalidad: Presencial\nHorario: 5 h al día (turno de mañana\, 09:00 h – 14:00 h)\nLugar: FLC Vicálvaro (Madrid) / EMEVO\nTeléfono: 689 43 91 90\nEmail: emempleoverdeyoficios@madrid.esLas fechas y horarios son orientativos y pueden sufrir modificaciones.\n\n¿Qué vas a aprender?\nEste curso combina formación técnica especializada (hard skills)\, competencias transversales (soft skills) y prácticas reales en empresa. Al finalizar serás capaz de: \n\nEjecutar trabajos en proyectos de saneamiento interpretando planos y especificaciones técnicas.\nAplicar prácticas de seguridad y prevención de riesgos laborales en obra.\nColaborar en la gestión eficiente de materiales\, herramientas y equipos.\nIdentificar y resolver incidencias técnicas durante la ejecución de los trabajos.\nCumplir la normativa vigente de construcción\, calidad y sostenibilidad.\nRealizar operaciones de carga\, descarga\, excavación y compactación\, así como el manejo seguro de carretilla elevadora y dumper.\n\nIncluye formación en prevención de riesgos laborales en Construcción. \nRequisitos de acceso\nImprescindible cumplir con TODOS los siguientes requisitos: \n\nPersona inscrita como demandante de empleo en la Comunidad de Madrid.\nContar con empadronamiento preferentemente en el municipio de Madrid.\nIdioma Castellano B1.\nSer mayor de 18 años.\n\nSe valorará: \n\nCarnet de conducir \nInterés y capacitación en trabajos manuales.\nActitud y predisposición en el manejo de herramientas y materiales.\n\nFormación práctica en empresa\nTras completar la parte teórica (200 horas)\, realizarás un mínimo de 50 horas de prácticas tutorizadas\, donde podrás aplicar lo aprendido en entornos reales y facilitar tu incorporación al mundo laboral. \nContenidos del programa\nMódulo Hard Skills – Habilidades técnicas (140 h)\n\nInterpretar planos de obra: Comprendiendo escalas\, símbolos\, secciones y detalles constructivos necesarios para la ejecución de trabajos de saneamiento.\nRealizar replanteos en obra: Estableciendo ejes\, referencias y niveles mediante herramientas de medición como nivel láser o manguera de agua\, garantizando la correcta alineación y pendiente de las instalaciones.\nEjecutar zanjas de saneamiento: Incluyendo el acondicionamiento del tajo\, el replanteo de redes enterradas\, el tendido de tuberías de drenaje y saneamiento\, el relleno y la compactación de zanjas y el uso de entibaciones.\nGestionar el agua en zanjas mediante el uso de bombas y sistemas de drenaje: Así como construir arquetas\, pozos y elementos prefabricados para redes enterradas.\nTrabajar en galerías de saneamiento: Conociendo los métodos de excavación\, sostenimiento\, revestimiento y ejecución de pozos\, además de la limpieza e inspección de colectores.\nRealizar trabajos de extendido de hormigón: Incluyendo transporte\, vertido\, compactación\, nivelación\, texturizado y curado.\nEjecutar trabajos de pavimentación: Preparando el terreno y realizando colocación de bordillos\, pavimentos solados\, adoquinados y extendido asfáltico.\nManejar carretilla elevadora y dumper: Aplicando la normativa vigente\, realizando operaciones básicas de mantenimiento y desarrollando prácticas de conducción en obra.\n\nMódulo Soft Skills – Formación transversal (60 h)\n\nNivel Básico de Prevención en Construcción (VII CGSC) – 60 h (Modalidad Mixta)\n\nSalidas profesionales\nUna vez finalizado el curso estarás preparado/a para trabajar como: \n\nReplanteos y lectura de planos.\nEjecución de zanjas y galerías de saneamiento.\nColocación de tuberías\, bordillos y arquetas.\nExtendido de hormigón y pavimentación.\nTrabajos básicos de obra civil vinculados al saneamiento.\nAplicación de medidas preventivas en obra.\n\n¿Por qué elegir este curso?\n✔ Formación 100% gratuita✔ Acceso a prácticas reales✔ Posibilidad de contratación al finalizar✔ Docentes especializados y formación orientada al empleo \n¿Listo/a para dar el paso hacia un oficio con futuro?📩 Inscríbete ahora y fórmate para trabajar donde se necesitan personas como tú.
URL:https://emempleoverdeyoficios.madrid.es/programa/curso-de-oficial-de-saneamiento/
LOCATION:EMEVO\, Calle Ginebro 1\, Madrid\, 28041
ATTACH;FMTTYPE=image/jpeg:https://emempleoverdeyoficios.madrid.es/wp-content/uploads/2026/03/Oficial-de-Saneamiento.jpg
ORGANIZER;CN="EMEVO":MAILTO:emempleoverdeyoficios@madrid.es
END:VEVENT
BEGIN:VEVENT
DTSTART;TZID=Europe/Madrid:20260619T090000
DTEND;TZID=Europe/Madrid:20260619T140000
DTSTAMP:20260424T190036
CREATED:20260126T100029Z
LAST-MODIFIED:20260424T103001Z
UID:10000028-1781859600-1781877600@emempleoverdeyoficios.madrid.es
SUMMARY:Curso de Ayudante de Albañilería
DESCRIPTION:Fórmate para trabajar como ayudante de albañilería y adquiere los conocimientos básicos necesarios para incorporarte a obras de construcción y rehabilitación. A lo largo del itinerario aprenderás a identificar materiales\, herramientas y procesos habituales en obra\, apoyar en las distintas fases de ejecución y trabajar siguiendo criterios de calidad\, seguridad y prevención de riesgos laborales\, reforzando tu empleabilidad en el sector de la construcción. \n¿A quién va dirigido?\nPersonas mayores de 18 años\, desempleadas e inscritas como demandantes de empleo en la Comunidad de Madrid\, y con ganas de aprender. \nDuración\, modalidad y fechas\n\nTotal: 140 horas (+ 50 h prácticas en empresa)\nComienzo: 19 de junio de 2026\nModalidad: Presencial\nHorario: 5 h al día (turno de mañana\, 09:00 h – 14:00 h)\nLugar: EMEVO\nTeléfono: 689 43 91 90\nEmail: emempleoverdeyoficios@madrid.esLas fechas y horarios son orientativos y pueden sufrir modificaciones.\n\n¿Qué vas a aprender?\nEste curso combina formación técnica especializada (hard skills)\, competencias transversales (soft skills) y prácticas reales en empresa. Los objetivos del curso son: \n\nAdquirir conocimientos iniciales\, teóricos y prácticos\, de albañilería.\nIdentificar los principales materiales\, herramientas y medios auxiliares empleados en obra.\nConocer las distintas fases de ejecución de una obra de construcción.\nAprender a colaborar y apoyar a otros oficios en trabajos de obra civil y edificación.\nTrabajar cumpliendo las normas de seguridad\, calidad y prevención de riesgos laborales.\n\nIncluye formación en prevención de riesgos laborales en trabajos de albañilería.  \nRequisitos de acceso\nImprescindible cumplir con TODOS los siguientes requisitos: \n\nPersona inscrita como demandante de empleo en la Comunidad de Madrid.\nContar con empadronamiento preferentemente en el municipio de Madrid.\nIdioma Castellano B1.\nSer mayor de 18 años.\n\nFormación práctica en empresa\nTras completar la parte teórica (140 horas)\, realizarás un mínimo de 50 horas de prácticas tutorizadas\, donde podrás aplicar lo aprendido en entornos reales y facilitar tu incorporación al mundo laboral. \nContenidos del programa\nMódulo Hard Skills – Habilidades técnicas (120 h)\n\nNociones básicas sobre los trabajos de albañilería: Concepto de albañilería e interpretación básica de planos.\nHerramientas de trabajo: Herramientas manuales\, maquinaria de obra\, y equipos y medios auxiliares.\nMateriales de construcción: Áridos\, cal\, yeso\, cemento\, hormigón\, aglomerantes y conglomerantes\, y ladrillos.\nEjecución de la obra.\n\nMódulo Soft Skills – Formación transversal (20 h)\n\n\nPrevención de Riesgos Laborales para trabajos de albañilería – 20 h \n\n\nSalidas profesionales\nUna vez finalizado el curso estarás preparado/a para trabajar como: \n\nAyudante de albañilería colaborando en obras de construcción\, rehabilitación y mantenimiento.\nApoyar en tareas de preparación de materiales\, y ejecución de trabajos básicos.\n\n¿Por qué elegir este curso?\n✔ Formación 100% gratuita✔ Acceso a prácticas reales✔ Posibilidad de contratación al finalizar✔ Docentes especializados y formación orientada al empleo \n¿Listo/a para dar el paso hacia un oficio con futuro?📩 Inscríbete ahora y fórmate para trabajar donde se necesitan personas como tú.
URL:https://emempleoverdeyoficios.madrid.es/programa/curso-de-ayudante-de-albanileria/
LOCATION:EMEVO\, Calle Ginebro 1\, Madrid\, 28041
ATTACH;FMTTYPE=image/jpeg:https://emempleoverdeyoficios.madrid.es/wp-content/uploads/2026/01/Auxiliar-de-Mantenimiento-Electrico.jpg
ORGANIZER;CN="EMEVO":MAILTO:emempleoverdeyoficios@madrid.es
END:VEVENT
END:VCALENDAR