BEGIN:VCALENDAR
VERSION:2.0
PRODID:-//EMEVO - ECPv6.13.1//NONSGML v1.0//EN
CALSCALE:GREGORIAN
METHOD:PUBLISH
X-ORIGINAL-URL:https://emempleoverdeyoficios.madrid.es
X-WR-CALDESC:Eventos para EMEVO
REFRESH-INTERVAL;VALUE=DURATION:PT1H
X-Robots-Tag:noindex
X-PUBLISHED-TTL:PT1H
BEGIN:VTIMEZONE
TZID:Europe/Madrid
BEGIN:DAYLIGHT
TZOFFSETFROM:+0100
TZOFFSETTO:+0200
TZNAME:CEST
DTSTART:20250330T010000
END:DAYLIGHT
BEGIN:STANDARD
TZOFFSETFROM:+0200
TZOFFSETTO:+0100
TZNAME:CET
DTSTART:20251026T010000
END:STANDARD
END:VTIMEZONE
BEGIN:VEVENT
DTSTART;TZID=Europe/Madrid:20251027T090000
DTEND;TZID=Europe/Madrid:20251027T140000
DTSTAMP:20260423T063110
CREATED:20250930T114816Z
LAST-MODIFIED:20260309T100237Z
UID:10000022-1761555600-1761573600@emempleoverdeyoficios.madrid.es
SUMMARY:Curso de Oficial de Construcción para Edificación y/o Obra Civil
DESCRIPTION:¿Quieres un oficio con futuro\, contrato estable y un plan de carrera real? Fórmate como Oficial de Construcción y aprende desde replanteos y saneamiento hasta bordillos\, hormigón y manejo seguro de maquinaria. Un itinerario pensado para entrar en obra y crecer hacia Capataz y Encargado. ¡Da el primer paso hacia una profesión sólida! \n¿A quién va dirigido este curso?\nPersonas desempleadas inscritas como demandantes de empleo en la Comunidad de Madrid que buscan iniciar (o consolidar) una profesión práctica y con alta empleabilidad en edificación y obra civil. No necesitas experiencia previa\, pero sí compromiso con la seguridad en obra y ganas de aprender en entorno real. \nDuración\, modalidad y fechas\n\nTotal: 250 horas (200 h de formación + 50 h de prácticas en empresa)\nComienzo: 27 de octubre de 2025\nModalidad: Presencial\nHorario: 5 h al día (turno de mañana\, 09:00 h – 14:00 h)\nLugar: EMEVO / FLC Vicálvaro (Madrid)\nTeléfono: 689 43 91 90\nEmail: emempleoverdeyoficios@madrid.esLas fechas y horarios son orientativos y pueden sufrir modificaciones.\n\n¿Qué vas a aprender?\nUn recorrido completo para trabajar con autonomía en obra\, con foco en calidad\, plazos y PRL: \n\nInterpretar planos: tipos\, escalas\, símbolos\, secciones y detalles.\nReplanteos: ejes y puntos de control\, mediciones\, nivelación (nivel láser y goma de agua)\, pendientes.\nSaneamiento: tendido de tubería en zanja\, rellenos\, arquetas y pozos (prefabricados y de fábrica)\, tapas/rejillas y calidad.\nBordillos: base\, nivelación\, alineación (lineales\, curvas y vados) y sellado de juntas.\nCimentación de báculo de alumbrado: excavación\, canalización eléctrica\, encofrado\, vertido y anclajes.\nHormigón: transporte\, vertido\, extendido\, compactación\, nivelación\, texturizado/fratasado y curado.\nMaquinaria: carretilla elevadora y dúmper (40 h): componentes\, operaciones básicas\, mantenimiento\, inspecciones y prevención de riesgos con práctica en circuito.\n\nRequisitos de acceso\nImprescindible\n\nPersona inscrita como demandante de empleo en la Comunidad de Madrid.\nContar con empadronamiento preferentemente en el municipio de Madrid.\nIdioma Castellano B1.\nSer mayor de 18 años.\n\nSe valorará\n\nInterés y aptitud para trabajos manuales; manejo de herramientas y materiales.\nCarnet de conducir (recomendable\, no excluyente).\n\nFormación práctica en empresa\nTras la parte teórica\, realizarás 50 h de prácticas tutorizadas en empresas del sector para aplicar lo aprendido y ganar experiencia real de obra. \nContenidos destacados\nMódulo técnico (140 h) \n\nUD1. Interpretación de planos\nUD2. Replanteos (niveles\, láser\, pendientes)\nUD3. Tuberías de saneamiento (edificación y redes urbanas)\nUD4. Bordillos (base\, nivelación\, alineación\, juntas)\nUD5. Cimentación de báculo de alumbrado público\nUD6. Extender hormigón (compactación\, planeidad\, curado)\nUD7. Carretilla elevadora y dúmper (40 h\, teoría + práctica + PRL)\n\nFormación transversal (60 h) \n\n\nNivel Básico de Prevención en Construcción (VII CGSC) – modalidad mixta. \n\n\nSalidas profesionales\nPodrás trabajar como: \n\nOficial/a de 2ª o de 1ª en construcción\n\n¿Por qué elegir este curso?\n✔ 200 h + 50 h de prácticas reales en empresas✔ PRL oficial (Nivel Básico) incluido✔ Contenidos prácticos de obra: de planos a hormigón y maquinaria✔ Empleabilidad: perfiles demandados en edificación y obra civil✔ Camino de carrera profesional (Oficial → Capataz → Encargado) \nInscripción y plazas\nPlazas limitadas. Contacta para confirmar fechas y proceso de selección: 689 43 91 90 · emempleoverdeyoficios@madrid.es
URL:https://emempleoverdeyoficios.madrid.es/programa/curso-de-oficial-de-construccion-para-edificacion-y-obra-civil/
LOCATION:EMEVO\, Calle Ginebro 1\, Madrid\, 28041
ATTACH;FMTTYPE=image/jpeg:https://emempleoverdeyoficios.madrid.es/wp-content/uploads/2025/09/Oficial-de-Construccion-para-Edificacion-yo-Obra-Civil.jpg
ORGANIZER;CN="EMEVO":MAILTO:emempleoverdeyoficios@madrid.es
END:VEVENT
END:VCALENDAR