BEGIN:VCALENDAR
VERSION:2.0
PRODID:-//EMEVO - ECPv6.13.1//NONSGML v1.0//EN
CALSCALE:GREGORIAN
METHOD:PUBLISH
X-WR-CALNAME:EMEVO
X-ORIGINAL-URL:https://emempleoverdeyoficios.madrid.es
X-WR-CALDESC:Eventos para EMEVO
REFRESH-INTERVAL;VALUE=DURATION:PT1H
X-Robots-Tag:noindex
X-PUBLISHED-TTL:PT1H
BEGIN:VTIMEZONE
TZID:Europe/Madrid
BEGIN:DAYLIGHT
TZOFFSETFROM:+0100
TZOFFSETTO:+0200
TZNAME:CEST
DTSTART:20250330T010000
END:DAYLIGHT
BEGIN:STANDARD
TZOFFSETFROM:+0200
TZOFFSETTO:+0100
TZNAME:CET
DTSTART:20251026T010000
END:STANDARD
BEGIN:DAYLIGHT
TZOFFSETFROM:+0100
TZOFFSETTO:+0200
TZNAME:CEST
DTSTART:20260329T010000
END:DAYLIGHT
BEGIN:STANDARD
TZOFFSETFROM:+0200
TZOFFSETTO:+0100
TZNAME:CET
DTSTART:20261025T010000
END:STANDARD
END:VTIMEZONE
BEGIN:VEVENT
DTSTART;TZID=Europe/Madrid:20260413T090000
DTEND;TZID=Europe/Madrid:20260413T140000
DTSTAMP:20260422T092144
CREATED:20250701T084317Z
LAST-MODIFIED:20260420T075053Z
UID:10000018-1776070800-1776088800@emempleoverdeyoficios.madrid.es
SUMMARY:Curso de Operaciones con Grúa Torre
DESCRIPTION:¿Te gustaría trabajar en construcción manejando maquinaria pesada? Fórmate como operador/a de grúa torre y consigue una de las certificaciones más valoradas del sector. Domina desde el montaje hasta el manejo y mantenimiento de la grúa torre. ¡Haz que tu futuro se eleve alto! \n¿A quién va dirigido este curso?\nEste curso está dirigido a personas desempleadas inscritas como demandantes de empleo en la Comunidad de Madrid\, con más de 18 años que quieran especializarse en un oficio con gran demanda en el sector de la construcción. \nIdeal para quienes buscan: \n\nUna profesión técnica y bien remunerada\nEstabilidad laboral en obras de edificación y grandes proyectos\nFormación oficial con posibilidad de obtener el carné de gruista\n\nNo necesitas experiencia previa\, pero sí compromiso\, responsabilidad y ganas de trabajar en entornos exigentes. \nDuración\, modalidad y fechas\n\nTotal: 310 horas (260 h de formación + 50 h de práctica en empresa)\nComienzo: 13 de abril de 2026\nModalidad: Presencial\nHorario: 5 horas diarias (turno de mañana\, 9:00 – 14:00 horas)\nLugar: EMEVO / FLC Vicálvaro (Madrid)\nTeléfono: 689 43 91 90\nEmail: emempleoverdeyoficios@madrid.esLas fechas y horarios son orientativos y pueden sufrir modificaciones.\n\n¿Qué vas a aprender?\nDurante este itinerario adquirirás las habilidades técnicas necesarias para operar una grúa torre con seguridad\, eficacia y profesionalidad. Aprenderás a: \n\nIdentificar los componentes y tipos de grúa torre (estructura\, cables\, pluma\, contrapesos…)\nSeleccionar el emplazamiento adecuado y asegurar la estabilidad de la grúa.\nRealizar maniobras seguras\, controladas y conforme a normativa.\nAplicar los diagramas de carga y cálculos operativos.\nRealizar comprobaciones diarias de mantenimiento y seguridad.\nComunicarte de forma efectiva en el entorno de obra.\nAplicar normas de prevención de riesgos laborales en aparatos elevadores.\nPrepararte para obtener el carné oficial de gruista (según RD 836/2003)\n\nRequisitos de acceso\nImprescindibles:\n\nPersona inscrita como demandante de empleo en la Comunidad de Madrid.\nContar con empadronamiento preferentemente en el municipio de Madrid.\nIdioma Castellano B1.\nSer mayor de 18 años.\nTener el título de ESO o equivalente homologado.\n\nPara obtener el carné de operador de grúa torre necesitarás además: \n\nSuperar este curso oficial.\nAprobar un examen médico y otro teórico-práctico por la Comunidad de Madrid(Te acompañaremos en todo el proceso)\n\nFormación práctica en empresa\nTras completar la formación teórica y práctica en aula (260 horas)\, realizarás 50 horas de prácticas reales en empresas del sector. Esta fase te permitirá: \n\nAplicar tus conocimientos en entornos de obra reales.\nFamiliarizarte con ritmos y protocolos profesionales.\nAumentar tus posibilidades de contratación tras el curso.\n\nContenidos destacados\nMódulo Hard Skills – Habilidades técnicas (240 h):\n\nTipos y componentes de grúa torre.\nEstabilidad\, emplazamiento\, contrapesos y seguridad.\nNormativa y señalización.\nManiobras permitidas y prohibidas.\nMantenimiento\, revisiones y puesta en servicio.\nManejo práctico de grúa torre y grúa autodesplegable.\n\nMódulo Soft Skills – Formación transversal (20 h):\n\nPrevención de Riesgos Laborales (20h) específica para aparatos elevadores.\nComunicación efectiva y trabajo en equipo.\n\nMódulo de prácticas tutorizadas (50h):En empresa colaboradora del sector. \nSalidas profesionales\nAl finalizar este curso podrás optar a puestos como: \n\nOperador/a de grúa torre (gruista)\nAyudante de maquinaria de elevación en obras.\nOperario/a de montaje o mantenimiento de grúas.\nPersonal técnico en empresas constructoras.\n\nSalario según convenio y alta empleabilidad en construcción\, edificación y obras de gran envergadura. \n¿Por qué elegir este curso?\n✔ Formación gratuita financiada por el Ayuntamiento de Madrid✔ Certificación oficial para el carné de gruista✔ Prácticas reales en empresas con posibilidad de contratación.✔ Alta demanda de profesionales en el sector✔ Acompañamiento personalizado durante todo el itinerario \n 
URL:https://emempleoverdeyoficios.madrid.es/programa/operador-de-grua-torre/
LOCATION:EMEVO\, Calle Ginebro 1\, Madrid\, 28041
ATTACH;FMTTYPE=image/jpeg:https://emempleoverdeyoficios.madrid.es/wp-content/uploads/2025/10/Operadora-de-Grua-Torre-FINALIZADO.jpg
ORGANIZER;CN="EMEVO":MAILTO:emempleoverdeyoficios@madrid.es
END:VEVENT
BEGIN:VEVENT
DTSTART;TZID=Europe/Madrid:20260302T090000
DTEND;TZID=Europe/Madrid:20260302T140000
DTSTAMP:20260422T092144
CREATED:20260126T100029Z
LAST-MODIFIED:20260420T074849Z
UID:10000028-1772442000-1772460000@emempleoverdeyoficios.madrid.es
SUMMARY:Curso de Ayudante de Albañilería
DESCRIPTION:Fórmate para trabajar como ayudante de albañilería y adquiere los conocimientos básicos necesarios para incorporarte a obras de construcción y rehabilitación. A lo largo del itinerario aprenderás a identificar materiales\, herramientas y procesos habituales en obra\, apoyar en las distintas fases de ejecución y trabajar siguiendo criterios de calidad\, seguridad y prevención de riesgos laborales\, reforzando tu empleabilidad en el sector de la construcción. \n¿A quién va dirigido?\nPersonas mayores de 18 años\, desempleadas e inscritas como demandantes de empleo en la Comunidad de Madrid\, y con ganas de aprender. \nDuración\, modalidad y fechas\n\nTotal: 140 horas (+ 50 h prácticas en empresa)\nComienzo: 02 de marzo de 2026\nModalidad: Presencial\nHorario: 5 h al día (turno de mañana\, 09:00 h – 14:00 h)\nLugar: EMEVO\nTeléfono: 689 43 91 90\nEmail: emempleoverdeyoficios@madrid.esLas fechas y horarios son orientativos y pueden sufrir modificaciones.\n\n¿Qué vas a aprender?\nEste curso combina formación técnica especializada (hard skills)\, competencias transversales (soft skills) y prácticas reales en empresa. Los objetivos del curso son: \n\nAdquirir conocimientos iniciales\, teóricos y prácticos\, de albañilería.\nIdentificar los principales materiales\, herramientas y medios auxiliares empleados en obra.\nConocer las distintas fases de ejecución de una obra de construcción.\nAprender a colaborar y apoyar a otros oficios en trabajos de obra civil y edificación.\nTrabajar cumpliendo las normas de seguridad\, calidad y prevención de riesgos laborales.\n\nIncluye formación en prevención de riesgos laborales en trabajos de albañilería.  \nRequisitos de acceso\nImprescindible cumplir con TODOS los siguientes requisitos: \n\nPersona inscrita como demandante de empleo en la Comunidad de Madrid.\nContar con empadronamiento preferentemente en el municipio de Madrid.\nIdioma Castellano B1.\nSer mayor de 18 años.\n\nFormación práctica en empresa\nTras completar la parte teórica (140 horas)\, realizarás un mínimo de 50 horas de prácticas tutorizadas\, donde podrás aplicar lo aprendido en entornos reales y facilitar tu incorporación al mundo laboral. \nContenidos del programa\nMódulo Hard Skills – Habilidades técnicas (120 h)\n\nNociones básicas sobre los trabajos de albañilería: Concepto de albañilería e interpretación básica de planos.\nHerramientas de trabajo: Herramientas manuales\, maquinaria de obra\, y equipos y medios auxiliares.\nMateriales de construcción: Áridos\, cal\, yeso\, cemento\, hormigón\, aglomerantes y conglomerantes\, y ladrillos.\nEjecución de la obra.\n\nMódulo Soft Skills – Formación transversal (20 h)\n\n\nPrevención de Riesgos Laborales para trabajos de albañilería – 20 h \n\n\nSalidas profesionales\nUna vez finalizado el curso estarás preparado/a para trabajar como: \n\nAyudante de albañilería colaborando en obras de construcción\, rehabilitación y mantenimiento\, apoyar en tareas de preparación de materiales\, y ejecución de trabajos básicos.\n\n¿Por qué elegir este curso?\n✔ Formación 100% gratuita✔ Acceso a prácticas reales✔ Posibilidad de contratación al finalizar✔ Docentes especializados y formación orientada al empleo \n¿Listo/a para dar el paso hacia un oficio con futuro?📩 Inscríbete ahora y fórmate para trabajar donde se necesitan personas como tú.
URL:https://emempleoverdeyoficios.madrid.es/programa/curso-de-ayudante-de-albanileria/
LOCATION:EMEVO\, Calle Ginebro 1\, Madrid\, 28041
ATTACH;FMTTYPE=image/jpeg:https://emempleoverdeyoficios.madrid.es/wp-content/uploads/2026/01/Ayudante-de-Albanileria.jpg
ORGANIZER;CN="EMEVO":MAILTO:emempleoverdeyoficios@madrid.es
END:VEVENT
BEGIN:VEVENT
DTSTART;TZID=Europe/Madrid:20260114T090000
DTEND;TZID=Europe/Madrid:20260114T140000
DTSTAMP:20260422T092144
CREATED:20250701T083029Z
LAST-MODIFIED:20260309T100719Z
UID:10000017-1768381200-1768399200@emempleoverdeyoficios.madrid.es
SUMMARY:Curso de Preparación de Encofrados
DESCRIPTION:¿Te gustaría aprender un oficio con demanda y trabajar en el sector de la construcción? Especialízate en encofrados y estructuras auxiliares y conviértete en un perfil clave para obras de edificación e infraestructuras. Aprende a montar encofrados\, apeos y entibaciones con seguridad y precisión. ¡Haz de tus manos tu herramienta de futuro! \n¿A quién va dirigido este curso?\nEste curso está pensado para ti si estás en situación de desempleo\, eres mayor de 18 años y te interesa trabajar en la construcción como oficial o peón especializado. \nIdeal para personas con interés en trabajos manuales\, montaje de estructuras\, albañilería o mantenimiento de obras. \nNo necesitas experiencia previa\, solo compromiso\, responsabilidad y ganas de aprender un oficio técnico muy valorado. \nDuración\, modalidad y fechas\n\nTotal: 170 horas (120 h formación + 50 h prácticas en empresa)\nComienzo: 14 de enero del 2026\nModalidad: Presencial\nHorario: 5 h al día (turno de mañana\, 09:00 h – 14:00 h)\nLugar: EMEVO / FLC Vicálvaro (Madrid)\nTeléfono: 689 43 91 90\nEmail: emempleoverdeyoficios@madrid.esLas fechas y horarios son orientativos y pueden sufrir modificaciones.\n\n¿Qué vas a aprender?\nAprenderás las técnicas\, herramientas y medidas de seguridad necesarias para ejecutar trabajos de encofrado\, apeo y entibación en obra. Al finalizar sabrás: \n\nInterpretar planos técnicos y organizar el trabajo de obra\nMontar y desmontar encofrados de madera\, metálicos y especiales\nUtilizar útiles\, herramientas manuales y maquinaria auxiliar\nEjecutar apeos y entibaciones según el tipo de terreno\nAplicar la normativa vigente de prevención de riesgos laborales\nConservar adecuadamente materiales y medios de protección\nTrabajar en equipo y desarrollar tu autonomía profesional\n\nRequisitos de acceso\nImprescindible:\n\nPersona inscrita como demandante de empleo en la Comunidad de Madrid.\nContar con empadronamiento preferentemente en el municipio de Madrid.\nIdioma Castellano B1.\nSer mayor de 18 años.\n\nSe valorará:\n\nInterés en el sector de la construcción o montaje estructural.\nBuena actitud y predisposición para el trabajo físico.\nHabilidad o curiosidad por el uso de herramientas manuales.\nCompromiso con las normas de seguridad en obra.\n\nFormación práctica en empresa\nUna vez finalices la formación teórica (120h)\, realizarás 50 horas de prácticas tutorizadas en empresas del sector\, donde podrás aplicar lo aprendido y mejorar tu empleabilidad. \nContenidos destacados\nMontaje de encofrados y estructuras auxiliares:\n\nTipos de encofrados: madera\, metálicos\, perdidos\, especiales\nMontaje y desmontaje de cimbras\nSistemas modernos de encofrado\nTécnicas de desencofrado y descimbrado\nEjecución de apeos y entibaciones\nInterpretación de planos técnicos de obra\nManipulación de herramientas\, maquinaria y medios auxiliares\n\nSeguridad y habilidades transversales:\n\nPrevención de riesgos laborales específica para encofrados\nUso de EPIs y protección colectiva\nConservación de herramientas y equipos\nTrabajo en equipo y responsabilidad en obra\n\nSalidas profesionales\nUna vez superado el itinerario\, podrás optar a puestos como: \n\nOficial/a de 2ª o peón/a especializado/a en encofrados\nOperario/a de estructuras de hormigón y cimentación\nAyudante en empresas de construcción\, reformas o grandes obras\nTécnico/a de apoyo en montaje de estructuras auxiliares\n\n¿Por qué elegir este curso?\n✔ Formación gratuita financiada por el Ayuntamiento de Madrid✔ Oficio con alta demanda en el sector de la construcción✔ Prácticas reales en empresa y posibilidad de contratación✔ Aprendizaje práctico y centrado en la realidad del trabajo en obra✔ Acompañamiento personalizado durante el itinerario
URL:https://emempleoverdeyoficios.madrid.es/programa/encofrados/
LOCATION:EMEVO\, Calle Ginebro 1\, Madrid\, 28041
ATTACH;FMTTYPE=image/jpeg:https://emempleoverdeyoficios.madrid.es/wp-content/uploads/2025/07/Preparacion-de-Encofrados.jpg
ORGANIZER;CN="EMEVO":MAILTO:emempleoverdeyoficios@madrid.es
END:VEVENT
BEGIN:VEVENT
DTSTART;TZID=Europe/Madrid:20251027T090000
DTEND;TZID=Europe/Madrid:20251027T140000
DTSTAMP:20260422T092144
CREATED:20250930T114816Z
LAST-MODIFIED:20260309T100237Z
UID:10000022-1761555600-1761573600@emempleoverdeyoficios.madrid.es
SUMMARY:Curso de Oficial de Construcción para Edificación y/o Obra Civil
DESCRIPTION:¿Quieres un oficio con futuro\, contrato estable y un plan de carrera real? Fórmate como Oficial de Construcción y aprende desde replanteos y saneamiento hasta bordillos\, hormigón y manejo seguro de maquinaria. Un itinerario pensado para entrar en obra y crecer hacia Capataz y Encargado. ¡Da el primer paso hacia una profesión sólida! \n¿A quién va dirigido este curso?\nPersonas desempleadas inscritas como demandantes de empleo en la Comunidad de Madrid que buscan iniciar (o consolidar) una profesión práctica y con alta empleabilidad en edificación y obra civil. No necesitas experiencia previa\, pero sí compromiso con la seguridad en obra y ganas de aprender en entorno real. \nDuración\, modalidad y fechas\n\nTotal: 250 horas (200 h de formación + 50 h de prácticas en empresa)\nComienzo: 27 de octubre de 2025\nModalidad: Presencial\nHorario: 5 h al día (turno de mañana\, 09:00 h – 14:00 h)\nLugar: EMEVO / FLC Vicálvaro (Madrid)\nTeléfono: 689 43 91 90\nEmail: emempleoverdeyoficios@madrid.esLas fechas y horarios son orientativos y pueden sufrir modificaciones.\n\n¿Qué vas a aprender?\nUn recorrido completo para trabajar con autonomía en obra\, con foco en calidad\, plazos y PRL: \n\nInterpretar planos: tipos\, escalas\, símbolos\, secciones y detalles.\nReplanteos: ejes y puntos de control\, mediciones\, nivelación (nivel láser y goma de agua)\, pendientes.\nSaneamiento: tendido de tubería en zanja\, rellenos\, arquetas y pozos (prefabricados y de fábrica)\, tapas/rejillas y calidad.\nBordillos: base\, nivelación\, alineación (lineales\, curvas y vados) y sellado de juntas.\nCimentación de báculo de alumbrado: excavación\, canalización eléctrica\, encofrado\, vertido y anclajes.\nHormigón: transporte\, vertido\, extendido\, compactación\, nivelación\, texturizado/fratasado y curado.\nMaquinaria: carretilla elevadora y dúmper (40 h): componentes\, operaciones básicas\, mantenimiento\, inspecciones y prevención de riesgos con práctica en circuito.\n\nRequisitos de acceso\nImprescindible\n\nPersona inscrita como demandante de empleo en la Comunidad de Madrid.\nContar con empadronamiento preferentemente en el municipio de Madrid.\nIdioma Castellano B1.\nSer mayor de 18 años.\n\nSe valorará\n\nInterés y aptitud para trabajos manuales; manejo de herramientas y materiales.\nCarnet de conducir (recomendable\, no excluyente).\n\nFormación práctica en empresa\nTras la parte teórica\, realizarás 50 h de prácticas tutorizadas en empresas del sector para aplicar lo aprendido y ganar experiencia real de obra. \nContenidos destacados\nMódulo técnico (140 h) \n\nUD1. Interpretación de planos\nUD2. Replanteos (niveles\, láser\, pendientes)\nUD3. Tuberías de saneamiento (edificación y redes urbanas)\nUD4. Bordillos (base\, nivelación\, alineación\, juntas)\nUD5. Cimentación de báculo de alumbrado público\nUD6. Extender hormigón (compactación\, planeidad\, curado)\nUD7. Carretilla elevadora y dúmper (40 h\, teoría + práctica + PRL)\n\nFormación transversal (60 h) \n\n\nNivel Básico de Prevención en Construcción (VII CGSC) – modalidad mixta. \n\n\nSalidas profesionales\nPodrás trabajar como: \n\nOficial/a de 2ª o de 1ª en construcción\n\n¿Por qué elegir este curso?\n✔ 200 h + 50 h de prácticas reales en empresas✔ PRL oficial (Nivel Básico) incluido✔ Contenidos prácticos de obra: de planos a hormigón y maquinaria✔ Empleabilidad: perfiles demandados en edificación y obra civil✔ Camino de carrera profesional (Oficial → Capataz → Encargado) \nInscripción y plazas\nPlazas limitadas. Contacta para confirmar fechas y proceso de selección: 689 43 91 90 · emempleoverdeyoficios@madrid.es
URL:https://emempleoverdeyoficios.madrid.es/programa/curso-de-oficial-de-construccion-para-edificacion-y-obra-civil/
LOCATION:EMEVO\, Calle Ginebro 1\, Madrid\, 28041
ATTACH;FMTTYPE=image/jpeg:https://emempleoverdeyoficios.madrid.es/wp-content/uploads/2025/09/Oficial-de-Construccion-para-Edificacion-yo-Obra-Civil.jpg
ORGANIZER;CN="EMEVO":MAILTO:emempleoverdeyoficios@madrid.es
END:VEVENT
BEGIN:VEVENT
DTSTART;TZID=Europe/Madrid:20251014T090000
DTEND;TZID=Europe/Madrid:20251014T140000
DTSTAMP:20260422T092144
CREATED:20250701T090021Z
LAST-MODIFIED:20260309T100257Z
UID:10000019-1760432400-1760450400@emempleoverdeyoficios.madrid.es
SUMMARY:Curso de Instalación de Placas de Yeso Laminado
DESCRIPTION:¿Te interesa la construcción\, el trabajo manual y ver resultados tangibles al final del día? Aprende a instalar placas de yeso laminado\, una técnica cada vez más demandada en reformas y obra nueva. Conviértete en un profesional preparado para entrar en el mundo laboral de la construcción interior. ¡Transforma espacios y tu futuro profesional! \n¿A quién va dirigido este curso?\nEste curso está diseñado para personas desempleadas mayores de 18 años que desean iniciarse en un oficio práctico\, con alta empleabilidad y demanda en obras\, reformas y construcción.Ideal si tienes interés por los trabajos manuales\, la rehabilitación de interiores o quieres adquirir una profesión en crecimiento.No se necesita experiencia previa\, solo ganas de aprender\, compromiso y responsabilidad en el trabajo. \nDuración\, modalidad y fechas\n\nTotal: 170 horas (120 h formación + 50 h prácticas en empresa)\nComienzo: 14 de octubre del 2025\nModalidad: Presencial\nHorario: 5 h al día (turno de mañana\, 09:00 h – 14:00 h)\nLugar: EMEVO\nTeléfono: 689 43 91 90\nEmail: emempleoverdeyoficios@madrid.esLas fechas y horarios son orientativos y pueden sufrir modificaciones.\n\n¿Qué vas a aprender?\nEste curso te proporcionará los conocimientos teóricos y prácticos necesarios para instalar placas de yeso laminado con precisión y calidad profesional. Aprenderás a: \n\nInterpretar planos\, medidas y replanteos en obra.\nDiferenciar tipos de placas (ignífugas\, acústicas\, térmicas\, etc.).\nUtilizar herramientas y materiales específicos para corte\, fijación y montaje.\nInstalar trasdosados\, tabiques\, techos continuos y registrables.\nEjecutar detalles como juntas\, sistemas de cuelgue\, mochetas y falsas vigas.\nAplicar conceptos básicos de electricidad en el entorno de obra.\nTrabajar con seguridad\, siguiendo la normativa vigente en PRL.\n\nTambién recibirás formación en prevención de riesgos laborales específica para trabajos de albañilería. \nRequisitos de acceso\nImprescindible:\n\nPersona inscrita como demandante de empleo en la Comunidad de Madrid.\nContar con empadronamiento preferentemente en el municipio de Madrid.\nIdioma Castellano B1.\nSer mayor de 18 años.\n\nSe valorará:\n\nInterés y capacitación en trabajos manuales.\nActitud positiva y predisposición para el uso de herramientas y materiales.\nCompromiso con las normativas de seguridad en obra.\n\nFormación práctica en empresa\nUna vez finalizada la formación teórica\, realizarás 50 horas de prácticas tutorizadas en empresas del sector\, donde podrás aplicar lo aprendido y dar tus primeros pasos como profesional en un entorno real de trabajo. \nContenidos destacados\nInstalación de Placa de Yeso Laminado:\n\nEl oficio: historia\, geometría\, interpretación de planos y replanteos.\nTipología de placas (hidrófuga\, ignífuga\, térmica\, acústica\, etc.).\nPerfilería\, tornillería y materiales auxiliares.\nTécnicas de corte\, fijación y manipulación.\nMontaje de trasdosados\, tabiques y falsos techos.\nTratamiento de juntas\, sistemas de cuelgue\, averías y detalles decorativos.\n\nFormación transversal:\n\nPrevención de riesgos laborales (20h)\nIntroducción a conceptos eléctricos básicos\nManejo seguro de herramientas y organización del trabajo\n\nSalidas profesionales\nUna vez finalizado el curso\, estarás preparado/a para trabajar como: \n\nInstalador/a de placas de yeso laminado en reformas y obras nuevas\nAyudante de albañilería interior\nMontador/a de tabiques\, techos y trasdosados\nOficial/a de 2ª en empresas de construcción o decoración\n\n¿Por qué elegir este curso?\n✔ Formación 100% gratuita✔ Oficio con alta demanda y estabilidad laboral✔ Prácticas reales en empresas del sector con posibilidad de contratación.✔ Formación completa: técnica + prevención + habilidades prácticas✔ Acompañamiento y orientación laboral durante todo el proceso
URL:https://emempleoverdeyoficios.madrid.es/programa/curso-de-instalacion-de-placas-de-yeso-laminado/
LOCATION:EMEVO\, Calle Ginebro 1\, Madrid\, 28041
ATTACH;FMTTYPE=image/png:https://emempleoverdeyoficios.madrid.es/wp-content/uploads/2025/10/Instalacion-de-Contadores-FINALIZADO.zip-2.png
ORGANIZER;CN="EMEVO":MAILTO:emempleoverdeyoficios@madrid.es
END:VEVENT
END:VCALENDAR