BEGIN:VCALENDAR
VERSION:2.0
PRODID:-//EMEVO - ECPv6.13.1//NONSGML v1.0//EN
CALSCALE:GREGORIAN
METHOD:PUBLISH
X-WR-CALNAME:EMEVO
X-ORIGINAL-URL:https://emempleoverdeyoficios.madrid.es
X-WR-CALDESC:Eventos para EMEVO
REFRESH-INTERVAL;VALUE=DURATION:PT1H
X-Robots-Tag:noindex
X-PUBLISHED-TTL:PT1H
BEGIN:VTIMEZONE
TZID:Europe/Madrid
BEGIN:DAYLIGHT
TZOFFSETFROM:+0100
TZOFFSETTO:+0200
TZNAME:CEST
DTSTART:20250330T010000
END:DAYLIGHT
BEGIN:STANDARD
TZOFFSETFROM:+0200
TZOFFSETTO:+0100
TZNAME:CET
DTSTART:20251026T010000
END:STANDARD
END:VTIMEZONE
BEGIN:VEVENT
DTSTART;TZID=Europe/Madrid:20251111T090000
DTEND;TZID=Europe/Madrid:20251111T140000
DTSTAMP:20260423T014212
CREATED:20250619T115954Z
LAST-MODIFIED:20260309T100648Z
UID:10000013-1762851600-1762869600@emempleoverdeyoficios.madrid.es
SUMMARY:Curso de Instalaciones Básicas de Domótica y Electricidad
DESCRIPTION:¿Te interesa trabajar con sistemas eléctricos\, domótica y nuevas tecnologías aplicadas a la vivienda? Fórmate en Instalaciones Básicas y aprende a montar\, mantener y reparar sistemas eléctricos y domóticos en edificios. Un oficio técnico con alta demanda en el sector de la construcción. ¡Domina las instalaciones eléctricas y accede a nuevas oportunidades laborales reales! \n¿A quién va dirigido este curso?\nEste curso está pensado para ti si estás en situación de desempleo\, eres mayor de 18 años y quieres adquirir una formación técnica especializada con prácticas reales en empresa.Ideal para personas con conocimientos o interés en electricidad\, montaje\, domótica o mantenimiento de instalaciones.Perfecto si tienes experiencia previa como electricista\, operador u oficial de 2ª\, o si quieres profesionalizarte en este campo. \nDuración\, modalidad y fechas\n\nTotal: 230 horas (+320 h de formación práctica en empresa o entidad)\nComienzo: 11 de noviembre de 2025\nModalidad: Presencial\nHorario: 5 h al día (turno de mañana\, 09:00 h – 14:00 h)\nLugar: EMEVO\nTeléfono: 689 43 91 90\nEmail: emempleoverdeyoficios@madrid.esLas fechas y horarios son orientativos y pueden sufrir modificaciones.\n\n¿Qué vas a aprender?\nEste curso te proporcionará las hard skills más demandadas en instalaciones eléctricas de baja tensión y sistemas domóticos\, así como competencias transversales clave (soft skills) como la seguridad\, la documentación técnica y el trabajo en equipo. \nAprenderás a: \n\nMontar y mantener sistemas domóticos e inmóticos en viviendas y edificios.\nInstalar cuadros eléctricos y dispositivos electrónicos con criterios de calidad.\nRealizar el mantenimiento preventivo y correctivo de las instalaciones.\nInterpretar esquemas eléctricos\, planos y documentación técnica.\nDetectar y reparar averías en instalaciones eléctricas.\nAplicar la normativa vigente en instalaciones eléctricas y domóticas.\nComunicarte eficazmente y colaborar en entornos de trabajo técnico.\n\nFormación práctica en empresa\nTras la formación teórica\, realizarás 320 horas de prácticas tutorizadas en empresas del sector. Podrás poner en marcha todo lo aprendido y facilitar tu incorporación al mercado laboral. \nContenidos destacados\nDomótica e inmótica (85h)\n\nMontaje y mantenimiento de sistemas inteligentes en viviendas.\nProgramación y parametrización de autómatas.\nInterpretación de planos y esquemas.\nSeguridad\, eficiencia energética y confort.\n\nInstalaciones eléctricas en viviendas (85h)\n\nMontaje de sistemas eléctricos en interior de edificios.\nDiagnóstico de averías y reparación.\nCálculo de potencias\, secciones y canalizaciones.\nElaboración de documentación técnica (planos\, certificados\, informes…).\n\nFormación transversal (60h)\n\nPrevención de riesgos laborales en construcción.\n\nRequisitos de acceso\nImprescindible:\n\nPersona inscrita como demandante de empleo en la Comunidad de Madrid.\nContar con empadronamiento preferentemente en el municipio de Madrid.\nIdioma Castellano B1.\nSer mayor de 18 años.\nCarnet de conducir.\n\nSe valorará:\n\nCapacidad de trabajo en equipo y bajo presión.\nExperiencia previa (mínimo 2 años) como Operador/a u Oficial de 2ª Electricista.\nTítulo de Formación Profesional de Grado Medio o equivalente en Electricidad (CP).\nConocimientos sólidos de electricidad\, cableado y sistemas eléctricos.\nCapacidad para interpretar planos y diagramas eléctricos.\nMovilidad geográfica para atender los proyectos necesarios una vez contratado.\nProactividad y habilidades técnicas.\n\nSalidas profesionales\nAl finalizar el curso\, podrás trabajar como: \n\nInstalador/a electricista en obras y reformas.\nTécnico/a de mantenimiento de instalaciones eléctricas y domóticas.\nAyudante u oficial en empresas de construcción\, reformas o domótica.\nEspecialista en montaje y reparación de instalaciones interiores en viviendas.\n\n¿Por qué elegir este curso?\n✔ Formación gratuita✔ Formación técnica especializada en domótica y baja tensión✔ Prácticas reales en empresa con posibilidad de contratación✔ Oficio con alta empleabilidad en el sector de la construcción✔ Acompañamiento profesional durante toda la formación
URL:https://emempleoverdeyoficios.madrid.es/programa/instalaciones-basicas/
LOCATION:EMEVO\, Calle Ginebro 1\, Madrid\, 28041
ATTACH;FMTTYPE=image/jpeg:https://emempleoverdeyoficios.madrid.es/wp-content/uploads/2025/06/Domotica-y-Electricidad.jpg
ORGANIZER;CN="EMEVO":MAILTO:emempleoverdeyoficios@madrid.es
END:VEVENT
BEGIN:VEVENT
DTSTART;TZID=Europe/Madrid:20250926T090000
DTEND;TZID=Europe/Madrid:20250926T140000
DTSTAMP:20260423T014212
CREATED:20250528T102320Z
LAST-MODIFIED:20260309T095259Z
UID:10000009-1758877200-1758895200@emempleoverdeyoficios.madrid.es
SUMMARY:Curso de Auxiliar de Mantenimiento Eléctrico
DESCRIPTION:Impulsa tu perfil técnico para trabajar como auxiliar de mantenimiento eléctrico en edificios de pública concurrencia y entornos industriales. Aprende a interpretar esquemas\, usar equipos de medida\, realizar sustituciones y revisiones básicas y aplicar PRL específica. \n¿A quién va dirigido este curso?\nPersonas desempleadas e inscritas como demandantes de empleo en la Comunidad de Madrid que deseen iniciar o reforzar su perfil en mantenimiento eléctrico\, con disponibilidad y compromiso con las normas de seguridad. \nDuración\, modalidad y fechas\n\nTotal: 120 horas (+ 50 h de prácticas en empresa)\nComienzo: 26 de septiembre de 2025\nModalidad: Presencial\nHorario: 5 horas al día (turno de mañana\,  09:00 h – 14:00 h)\nLugar: EMEVO\nTeléfono: 689 43 91 90\nEmail: emempleoverdeyoficios@madrid.esLas fechas y horarios son orientativos y pueden sufrir modificaciones.\n\n¿Qué vas a aprender?\nCompetencias y resultados de aprendizaje para desempeñarte siempre bajo supervisión como auxiliar de mantenimiento: \n\nElectricidad básica aplicada: aparamenta\, cuadros\, alumbrado y líneas.\nInstrumentación: uso seguro de multímetro/polímetro y detectores de tensión.\nSustituciones y revisiones: magnetotérmicos\, diferenciales\, luminarias\, emergencias.\nEsquemas unifilares: lectura\, simbología y comprobaciones.\nDomótica y eficiencia: sensores\, horarios\, paradas/arranques\, criterios de LUX.\nPRL específica en trabajos de electricidad (VII CGSC).\n\nRequisitos de acceso\nSe requiere\n\nPersona inscrita como demandante de empleo en la Comunidad de Madrid.\nContar con empadronamiento preferentemente en el municipio de Madrid.\nIdioma Castellano B1.\nSer mayor de 18 años.\nFlexibilidad horaria.\nCompromiso con las normativas de seguridad en obra.\n\nSe valorará positivamente\n\nFormación relacionada con electricidad y mantenimiento.\nCompetencias: cooperación\, orientación a la calidad\, vocación por el cliente\, iniciativa y toma de decisiones.\n\nFormación práctica en empresa\nTras la formación en aula (120 h)\, realizarás 50 horas de prácticas tutorizadas en empresa colaboradora para aplicar lo aprendido en entornos reales\, familiarizarte con ritmos profesionales y mejorar tu empleabilidad. \nContenidos destacados\nMódulo técnico (hard skills) – 100 h\nElectricidad \n\nElementos de la instalación\nLimpieza y mantenimiento de cuadros\nAlumbrado general y de emergencia: comprobación y sustitución (pantallas 60×60\, estancas\, focos LED)\nUso de aparamanta y equipos de medida: multímetro/polímetro\, detector de tensión\nSustitución de magnetotérmicos y diferenciales (maniobras sin tensión)\nPuntos principales y averías en grupo electrógeno\nDetección de derivaciones; revisión de tomas\, alargaderas y compresores\nEsquemas unifilares: lectura e interpretación\nMontaje y desmontaje de línea eléctrica\nLimpieza de baterías de condensadores\nContadores y elementos de usuario\nTipos de cable adecuados para edificios de pública concurrencia\n\nDomótica \n\nCriterios de luminosidad (LUX) y temperatura\nUso y revisión de luxómetro\nElementos de instalación: relés\, controladores\, detectores de tensión\nHorarios\, paradas/arranques y ahorro energético por zonas\nSustitución de detectores de presencia (IR/ultrasonidos) y pulsadores temporizados\n\nMódulo transversal (soft skills) – 20 h\n\n\nPRL para trabajos de electricidad\, montaje y mantenimiento de instalaciones de alta y baja tensión (VII CGSC). \n\n\nMódulo de prácticas tutorizadas – 50 h\n\n\nEstancia en empresa colaboradora con seguimiento docente. \n\n\nSalidas profesionales\n\nAuxiliar de mantenimiento eléctrico\nApoyo a mantenimiento correctivo y preventivo en instalaciones bajo supervisión\nColaboración para asegurar el correcto funcionamiento de equipos e infraestructuras.\n\n¿Por qué elegir este curso?\n✔ Itinerario financiado por el Ayuntamiento de Madrid✔ Contenido técnico + PRL adaptado a entornos reales✔ 50 h de prácticas en empresa colaboradora✔ Acompañamiento y orientación durante todo el itinerario
URL:https://emempleoverdeyoficios.madrid.es/programa/curso-auxiliar-de-mantenimiento-hipermercados/
LOCATION:EMEVO\, Calle Ginebro 1\, Madrid\, 28041
ATTACH;FMTTYPE=image/jpeg:https://emempleoverdeyoficios.madrid.es/wp-content/uploads/2025/10/Auxiliar-de-Mantenimiento-Electrico.jpg
ORGANIZER;CN="EMEVO":MAILTO:emempleoverdeyoficios@madrid.es
END:VEVENT
END:VCALENDAR