BEGIN:VCALENDAR
VERSION:2.0
PRODID:-//EMEVO - ECPv6.13.1//NONSGML v1.0//EN
CALSCALE:GREGORIAN
METHOD:PUBLISH
X-ORIGINAL-URL:https://emempleoverdeyoficios.madrid.es
X-WR-CALDESC:Eventos para EMEVO
REFRESH-INTERVAL;VALUE=DURATION:PT1H
X-Robots-Tag:noindex
X-PUBLISHED-TTL:PT1H
BEGIN:VTIMEZONE
TZID:Europe/Madrid
BEGIN:DAYLIGHT
TZOFFSETFROM:+0100
TZOFFSETTO:+0200
TZNAME:CEST
DTSTART:20250330T010000
END:DAYLIGHT
BEGIN:STANDARD
TZOFFSETFROM:+0200
TZOFFSETTO:+0100
TZNAME:CET
DTSTART:20251026T010000
END:STANDARD
END:VTIMEZONE
BEGIN:VEVENT
DTSTART;TZID=Europe/Madrid:20251107T090000
DTEND;TZID=Europe/Madrid:20251107T150000
DTSTAMP:20260423T032236
CREATED:20250619T133941Z
LAST-MODIFIED:20260309T100538Z
UID:10000014-1762506000-1762527600@emempleoverdeyoficios.madrid.es
SUMMARY:Curso de Profesional de Servicio Técnico y Electromecánico
DESCRIPTION:¿Te apasiona el mundo del motor y quieres trabajar en talleres o concesionarios? Aprende desde cero el mantenimiento electromecánico de vehículos y conviértete en un perfil técnico preparado para incorporarte al sector de la automoción. ¡Un itinerario formativo completo con prácticas reales y gran proyección laboral! \n¿A quién va dirigido este curso?\nEste itinerario está pensado para ti si estás en situación de desempleo\, eres mayor de 18 años y quieres aprender un oficio técnico con mucha salida laboral. Ideal para personas con interés en mecánica\, mantenimiento de vehículos o atención al cliente en el sector del automóvil. No necesitas formación previa\, pero sí ganas de aprender\, responsabilidad y buena actitud. \nDuración\, modalidad y fechas\n\nTotal: 320 horas (270 h de formación + 50 h de prácticas en empresa)\nComienzo: 07 de noviembre de 2025\nModalidad: Presencial\nHorario: 6 h al día (turno de mañana\, 09:00 h – 15:00 h)\nLugar: EMEVO / INTEA (Móstoles)\nTeléfono: 689 43 91 90\nEmail: emempleoverdeyoficios@madrid.esLas fechas y horarios son orientativos y pueden sufrir modificaciones.\n\n¿Qué vas a aprender?\nEste curso te proporcionará las habilidades técnicas más valoradas en talleres y concesionarios (hard skills)\, junto a competencias clave en atención al cliente y seguridad laboral (soft skills). Aprenderás a: \n\nEfectuar operaciones básicas de mecanizado\, soldadura y metrología.\nInterpretar planos y aplicar técnicas de unión y ensamblaje.\nDesmontar\, montar y sustituir elementos mecánicos: motor\, suspensión\, frenos y transmisión.\nRealizar tareas básicas en sistemas eléctricos de vehículos.\nUsar herramientas y maquinaria básica de taller.\nPrestar atención al cliente de forma profesional (presencial y online).\nGenerar oportunidades comerciales (leads) desde el taller.\n\nFormación práctica en empresa\nTras completar la formación teórica\, realizarás 50 horas de prácticas tutorizadas en una empresa del sector\, donde podrás aplicar tus conocimientos en un entorno real de trabajo. \nContenidos destacados\nMantenimiento Electromecánico (270h)\n\nMecanizado básico\, soldadura y metrología.\nMotores\, frenos\, transmisión\, ruedas y suspensión.\nSistemas eléctricos auxiliares del vehículo.\n\nFormación Transversal (35h)\n\nPrevención de riesgos laborales e impacto ambiental.\nAtención al cliente 360º (presencial y online).\nGeneración de leads y habilidades comerciales.\n\nRequisitos de acceso\nImprescindibles:\n\nPersona inscrita como demandante de empleo en la Comunidad de Madrid.\nContar con empadronamiento preferentemente en el municipio de Madrid.\nIdioma Castellano B1.\nSer mayor de 18 años.\n\nSe valorará:\n\nExperiencia previa e interés en la automoción.\nExperiencia previa en electricidad o electrónica.\nExperiencia previa en reparación o mantenimiento de maquinaria\, electrodomésticos\, o dispositivos electrónicos.\nCarnet de conducir.\n\nSalidas profesionales\nUna vez finalices el itinerario\, podrás acceder a empleos como: \n\nTécnico/a auxiliar de electromecánica de vehículos.\nAsesor/a de servicio en talleres o concesionarios.\nOperario/a de mantenimiento y revisión de vehículos.\nPersonal de atención al cliente en centros de automoción.\n\n¿Por qué elegir este curso?\n✔ Formación gratuita✔ Certificación técnica + formación transversal en soft skills✔ Prácticas reales en empresa con posibilidad de contratación✔ Oficio con alta demanda y proyección profesional✔ Enfoque práctico\, técnico y personalizado
URL:https://emempleoverdeyoficios.madrid.es/programa/asesor-de-servicio-y-tecnico-de-electromecanica/
LOCATION:EMEVO\, Calle Ginebro 1\, Madrid\, 28041
ATTACH;FMTTYPE=image/jpeg:https://emempleoverdeyoficios.madrid.es/wp-content/uploads/2025/06/Servicio-tecnico-y-electromecanico.jpg
END:VEVENT
BEGIN:VEVENT
DTSTART;TZID=Europe/Madrid:20251007T090000
DTEND;TZID=Europe/Madrid:20251007T140000
DTSTAMP:20260423T032236
CREATED:20250619T111608Z
LAST-MODIFIED:20260309T095330Z
UID:10000012-1759827600-1759845600@emempleoverdeyoficios.madrid.es
SUMMARY:Curso de Auxiliar de Mantenimiento y Mecánica Rápida del Automóvil
DESCRIPTION:Fórmate como Auxiliar de Mantenimiento y Mecánica Rápida del Automóvil y prepárate para acceder a uno de los sectores con más demanda de empleo. Aprende a cambiar neumáticos\, realizar ajustes mecánicos básicos y trabajar con seguridad en un entorno profesional real. ¡Haz de tu interés por los coches una oportunidad laboral! \n¿A quién va dirigido este curso?\nEste curso está pensado para ti si estás en situación de desempleo\, eres mayor de 18 años y te interesa adquirir habilidades prácticas en el ámbito de la mecánica y el mantenimiento de vehículos. \nIdeal para personas con interés en el automóvil\, la mecánica básica\, trabajos manuales o técnicos. \nNo necesitas experiencia previa\, aunque se valorará positivamente. Solo necesitas compromiso\, ganas de aprender y buena disposición para trabajar en equipo. \nDuración\, modalidad y fechas\n\nTotal: 120 horas (70h de formación + 50h de prácticas en empresa)\nComienzo: 07 de octubre del 2025\nModalidad: Presencial\nHorario: 5h al día (turno de mañana\, 09:00 h – 14:00 h)\nLugar: EMEVO\nTeléfono: 689 43 91 90\nEmail: emempleoverdeyoficios@madrid.esLas fechas y horarios son orientativos y pueden sufrir modificaciones.\n\n¿Qué vas a aprender?\nEste curso te proporcionará los conocimientos técnicos más demandados en talleres (hard skills)\, junto a competencias clave para trabajar con seguridad\, eficacia y en equipo (soft skills). Aprenderás a: \n\nIdentificar los principales sistemas del automóvil: motor\, caja de cambios\, transmisión\, frenos\, inyección\, dirección…\nRealizar operaciones básicas de mantenimiento: cambio de neumáticos\, aceite y filtros.\nDiagnosticar averías comunes y seguir procedimientos seguros en cada intervención.\nAplicar criterios de orden\, limpieza y gestión de residuos en el taller.\nComunicarte de forma efectiva con el equipo y gestionar tu tiempo en el entorno laboral.\nConocer las bases de prevención de riesgos laborales aplicadas al sector del automóvil.\n\nRequisitos de acceso\nImprescindible\n\nPersona inscrita como demandante de empleo en la Comunidad de Madrid.\nContar con empadronamiento preferentemente en el municipio de Madrid.\nIdioma Castellano B1.\nSer mayor de 18 años.\n\nSe valorará:\n\nCarnet de conducir.\nExperiencia en talleres o tareas de mantenimiento.\nSe recomienda experiencia previa en mecánica o en oficios manuales como carpintería o fontanería.\nActitud proactiva\, responsabilidad y trabajo en equipo.\n\nFormación práctica en empresa\nTras finalizar la formación teórica (70 horas)\, realizarás 50 horas de prácticas reales en talleres colaborativos. Pondrás en práctica todo lo aprendido en un entorno profesional y mejorarás tus opciones de inserción laboral. \nContenidos destacados\nMecánica rápida del automóvil:\n\nIntroducción al automóvil y tipos de motores (gasolina\, diésel\, híbridos).\nSistemas de inyección\, tren de rodaje\, transmisión y dirección.\nCambio de neumáticos\, verificación de presión y desgaste.\nRevisión y sustitución de frenos\, lubricantes y filtros.\nNormativa y procedimientos de calidad en el taller.\n\nCompetencias transversales (soft skills):\n\nTrabajo en equipo\nGestión del tiempo\nResolución de conflictos\nPRL específica para talleres de reparación (IV Convenio del Metal)\n\nSalidas profesionales\nAl finalizar el curso podrás optar a puestos como: \n\nAuxiliar de mantenimiento en talleres mecánicos\nOperario/a en servicios de mecánica rápida (aceite\, filtros\, neumáticos)\nAyudante de mecánico/a en talleres multimarca\nPersonal de apoyo en empresas de reparación o servicios del automóvil\n\n¿Por qué elegir este curso?\n\nFormación gratuita y presencial\nHabilidades técnicas + competencias profesionales\nPrácticas reales en taller con posibilidad de contratación\nOficio con alta demanda laboral y proyección profesional\nAcompañamiento y orientación laboral durante el itinerario\n\n¿Listo para poner en marcha tu futuro profesional en el sector del automóvil?📩 Contáctanos ya y reserva tu plaza.
URL:https://emempleoverdeyoficios.madrid.es/programa/auxiliar-de-mantenimiento-y-mecanica-rapida-del-automovil/
LOCATION:EMEVO\, Calle Ginebro 1\, Madrid\, 28041
ATTACH;FMTTYPE=image/jpeg:https://emempleoverdeyoficios.madrid.es/wp-content/uploads/2025/10/Auxiliar-de-Mantenimiento-y-Mecanica-Rapida-del-Automovil-FINALIZADO.jpg
ORGANIZER;CN="EMEVO":MAILTO:emempleoverdeyoficios@madrid.es
END:VEVENT
BEGIN:VEVENT
DTSTART;TZID=Europe/Madrid:20250623T080000
DTEND;TZID=Europe/Madrid:20250623T140000
DTSTAMP:20260423T032236
CREATED:20250527T102903Z
LAST-MODIFIED:20250623T063929Z
UID:10000008-1750665600-1750687200@emempleoverdeyoficios.madrid.es
SUMMARY:Curso de Reparación de Bicicletas
DESCRIPTION:¿Te apasionan las bicis y buscas una oportunidad laboral real en una gran empresa de deportes. Este itinerario formativo te prepara para trabajar como técnico/a de taller de bicicletas\, aprendiendo a diagnosticar\, reparar y mantener bicis mecánicas y eléctricas\, mientras desarrollas competencias de atención al cliente en un entorno profesional. \n¿A quién va dirigido?\nPersonas desempleadas inscritas como demandantes de empleo en la Comunidad de Madrid\, con pasión por el deporte\, interés en la atención al cliente y disponibilidad para trabajar fines de semana y turnos variados. \n¿Qué vas a aprender?\nEste curso combina formación técnica (hard skills)\, habilidades transversales (soft skills) y prácticas reales en tienda. Aprenderás a: \n\nDiagnosticar y reparar bicicletas mecánicas y con asistencia eléctrica (VAE).\nManejar herramientas de taller y productos de mantenimiento.\nAplicar prestaciones y ajustes en ruedas\, frenos\, dirección y transmisión.\nDetectar necesidades del cliente y aplicar técnicas de venta.\nComunicarte de forma asertiva\, gestionar reclamaciones y fidelizar usuarios.\nGarantizar la seguridad del entorno de trabajo y conocer los riesgos del sector.\n\nIncluye formación online en Prevención de Riesgos Laborales (30 h)\, obligatoria para poder comenzar las prácticas. \nFormación práctica en empresa\nTras las sesiones teóricas (75 horas)\, realizarás 50 horas de prácticas reales en tiendas deportivas\, donde aplicarás lo aprendido y tendrás posibilidades de contratación en alguno de las ofertas abiertas para el puesto de técnico/a de taller. \nContenidos destacados\nTécnicas de taller:\n\nDiagnóstico y mantenimiento de bicicletas mecánicas y eléctricas.\nPares de apriete\, frenado\, transmisión\, ruedas y dirección.\nUso de herramientas especializadas y productos de mantenimiento.\n\nAtención al cliente y venta: \n\nTécnicas de comunicación y empatía.\nEtapas de la venta: acogida\, descubrimiento\, argumentación\, fidelización.\nGestión de reclamaciones y dinamización del taller.\n\nCompetencias relacionales: \n\nGestión de conflictos y trabajo en equipo.\nComunicación en público y feedback constructivo.\n\nPRL – Formación online obligatoria: \n\n\nSeguridad\, salud laboral y gestión de riesgos en el puesto. \n\n\nDuración\, modalidad y fechas\n\nTotal: 125 horas (75h formación + 50h prácticas)\nModalidad: Presencial\nHorario: 5h al día\nLugar: C/ Ginebro\, 1. 28041 Madrid\nTeléfono: 689 43 91 90\nEmail: emempleoverdeyoficios@madrid.es\nFechas orientativas\, sujetas a modificación\n\nRequisitos de acceso\nImprescindible cumplir con los siguientes requisitos: \n\nEstar inscrito/a como demandante de empleo en la Comunidad de Madrid.\nSer practicante habitual de deporte.\nTener vocación de atención al cliente.\nDisponibilidad de trabajo completa o parcial\, incluidos fines de semana.\n\nSe valorará: \n\nExperiencia en retail (no imprescindible).\nConocimientos de ciclismo y reparación.\nDisponibilidad geográfica y uso de herramientas digitales.\n\nSalidas profesionales\nAl finalizar el curso podrás optar a un empleo como: \n\nTécnico/a de taller en tiendas.\nEspecialista en reparación de bicicletas.\nTécnico/a en atención y servicio postventa.\n\n¿Por qué elegir este curso?\n✔ Formación gratuita con plazas limitadas✔ Prácticas reales en tiendas✔ Posibilidad de contratación inmediata✔ Formación en habilidades sociales y técnicas✔ Jornadas laborales adaptadas a tu disponibilidad \n📩 Inscríbete ahora y empieza a pedalear hacia tu próximo empleo.
URL:https://emempleoverdeyoficios.madrid.es/programa/curso-de-reparacion-de-bicicletas/
LOCATION:EMEVO\, Calle Ginebro 1\, Madrid\, 28041
ATTACH;FMTTYPE=image/jpeg:https://emempleoverdeyoficios.madrid.es/wp-content/uploads/2025/05/persona-arreglando-bicicleta.jpg
ORGANIZER;CN="EMEVO":MAILTO:emempleoverdeyoficios@madrid.es
END:VEVENT
END:VCALENDAR