BEGIN:VCALENDAR
VERSION:2.0
PRODID:-//EMEVO - ECPv6.13.1//NONSGML v1.0//EN
CALSCALE:GREGORIAN
METHOD:PUBLISH
X-WR-CALNAME:EMEVO
X-ORIGINAL-URL:https://emempleoverdeyoficios.madrid.es
X-WR-CALDESC:Eventos para EMEVO
REFRESH-INTERVAL;VALUE=DURATION:PT1H
X-Robots-Tag:noindex
X-PUBLISHED-TTL:PT1H
BEGIN:VTIMEZONE
TZID:Europe/Madrid
BEGIN:DAYLIGHT
TZOFFSETFROM:+0100
TZOFFSETTO:+0200
TZNAME:CEST
DTSTART:20250330T010000
END:DAYLIGHT
BEGIN:STANDARD
TZOFFSETFROM:+0200
TZOFFSETTO:+0100
TZNAME:CET
DTSTART:20251026T010000
END:STANDARD
END:VTIMEZONE
BEGIN:VEVENT
DTSTART;TZID=Europe/Madrid:20251013T153000
DTEND;TZID=Europe/Madrid:20251013T203000
DTSTAMP:20260423T102519
CREATED:20250321T095451Z
LAST-MODIFIED:20260309T100007Z
UID:10000005-1760369400-1760387400@emempleoverdeyoficios.madrid.es
SUMMARY:Curso de Construcción de Superestructura de Vías en Obras Hormigonadas
DESCRIPTION:¿Te interesa el trabajo en obra\, el uso de maquinaria y un oficio con futuro en el sector ferroviario? Este itinerario formativo te prepara para trabajar en la construcción y mantenimiento de vías ferroviarias con una especialización muy demandada: el montaje y hormigonado de superestructuras. \n¿A quién va dirigido?\nPersonas desempleadas inscritas como demandantes de empleo en la Comunidad de Madrid\, con interés en el sector ferroviario\, ganas de aprender un oficio y disponibilidad para trabajar por todo el territorio nacional. \n¿Qué vas a aprender?\nEste curso combina formación técnica (hard skills)\, competencias transversales (soft skills) y prácticas reales en empresa. Aprenderás a: \n\nEntender el entorno ferroviario y la estructura de las vías\nManejar herramientas manuales y maquinaria específica de obra\nMontar\, encofrar y hormigonar superestructuras de vía\nIdentificar y aplicar protocolos de seguridad en obra\nTrabajar en túneles y espacios confinados\nConocer las bases de la electrificación y señalización ferroviaria\n\nAdemás\, incluye formación en prevención de riesgos laborales y sensibilización medioambiental. \nFormación práctica en empresa\nAl finalizar la parte teórica (146 horas)\, harás prácticas en empresa (50 horas mínimas\, con posibilidad de ampliación hasta 320 horas)\, donde podrás poner en práctica lo aprendido y abrirte paso hacia tu contratación. \nContenidos destacados\n\nSuperestructura de vía hormigonada I y II\nMaquinaria ferroviaria\nEncofrado y hormigonado\nTrabajos en túneles y espacios confinados\nPRL en obras ferroviarias y encofrado\nMedioambiente y buenas prácticas\n\nDuración\, modalidad y fechas\n\nTotal: 196 horas (146 h teóricas + 50 h de prácticas en empresa)\nComienzo: 13 de Octubre de 2025\nModalidad: Presencial\nHorario: 5 h al día (turno de tarde\, 15:30 h – 20:30 h)\nLugar: EMEVO\nTeléfono: 689 43 91 90\nEmail: emempleoverdeyoficios@madrid.esLas fechas y horarios son orientativos y pueden sufrir modificaciones.\n\nRequisitos de acceso\n\nPersona inscrita como demandante de empleo en la Comunidad de Madrid.\nContar con empadronamiento preferentemente en el municipio de Madrid.\nIdioma Castellano B1.\nSer mayor de 18 años.\nDisponibilidad para trabajar en diferentes localidades.\nCompromiso con la seguridad en obra.\nSe valora (no obligatorio):\n\nExperiencia en obras ferroviarias.\n\n\n\nSalidas profesionales\nAl finalizar el curso estarás preparado/a para trabajar en: \n\nMontaje y mantenimiento de vías ferroviarias\nEmpresas de construcción de infraestructuras\nOperadoras ferroviarias y contratistas\nOficios relacionados con maquinaria\, encofrado y obras públicas\n\n¿Por qué elegir este curso?\n✔ Formación gratuita\n✔ Con opción real de contratación\n✔ Ayuda de apoyo: ayuda de transporte\, manutención y conciliación\n✔ Prácticas en entorno real\n✔ Docentes especializados y enfoque práctico
URL:https://emempleoverdeyoficios.madrid.es/programa/curso-contruccion-vias-obras-hormigonadas/
LOCATION:EMEVO\, Calle Ginebro 1\, Madrid\, 28041
CATEGORIES:Cursos,Vías Hormigonadas
ATTACH;FMTTYPE=image/png:https://emempleoverdeyoficios.madrid.es/wp-content/uploads/2025/10/Instalacion-de-Contadores-FINALIZADO.zip-3.png
ORGANIZER;CN="EMEVO":MAILTO:emempleoverdeyoficios@madrid.es
END:VEVENT
END:VCALENDAR