BEGIN:VCALENDAR
VERSION:2.0
PRODID:-//EMEVO - ECPv6.13.1//NONSGML v1.0//EN
CALSCALE:GREGORIAN
METHOD:PUBLISH
X-WR-CALNAME:EMEVO
X-ORIGINAL-URL:https://emempleoverdeyoficios.madrid.es
X-WR-CALDESC:Eventos para EMEVO
REFRESH-INTERVAL;VALUE=DURATION:PT1H
X-Robots-Tag:noindex
X-PUBLISHED-TTL:PT1H
BEGIN:VTIMEZONE
TZID:Europe/Madrid
BEGIN:DAYLIGHT
TZOFFSETFROM:+0100
TZOFFSETTO:+0200
TZNAME:CEST
DTSTART:20260329T010000
END:DAYLIGHT
BEGIN:STANDARD
TZOFFSETFROM:+0200
TZOFFSETTO:+0100
TZNAME:CET
DTSTART:20261025T010000
END:STANDARD
END:VTIMEZONE
BEGIN:VEVENT
DTSTART;TZID=Europe/Madrid:20260427T090000
DTEND;TZID=Europe/Madrid:20260427T140000
DTSTAMP:20260422T235525
CREATED:20260126T103002Z
LAST-MODIFIED:20260309T102208Z
UID:10000029-1777280400-1777298400@emempleoverdeyoficios.madrid.es
SUMMARY:Curso de Rehabilitación y Aislamiento de Edificios
DESCRIPTION:Fórmate para trabajar en el sector de la rehabilitación de edificios\, adquiriendo los conocimientos técnicos y prácticos necesarios para intervenir en fachadas y cubiertas mediante sistemas de revestimiento\, aislamiento térmico e impermeabilización. A lo largo del itinerario aprenderás a identificar patologías habituales de la edificación\, preparar soportes y aplicar distintos sistemas constructivos\, siempre bajo criterios de calidad\, seguridad\, eficiencia energética y respeto al medio ambiente. \n¿A quién va dirigido?\nPersonas mayores de 18 años\, desempleadas e inscritas como demandantes de empleo en la Comunidad de Madrid\, con interés en trabajos manuales\, y ganas de aprender. \nDuración\, modalidad y fechas\n\nTotal: 170 horas (+ 50 h prácticas en empresa)\nComienzo: 27 de abril de 2026\nModalidad: Presencial\nHorario: 5 h al día (turno de mañana\, 09:00 h – 14:00 h)\nLugar: EMEVO\nTeléfono: 689 43 91 90\nEmail: emempleoverdeyoficios@madrid.esLas fechas y horarios son orientativos y pueden sufrir modificaciones.\n\n¿Qué vas a aprender?\nEste curso combina formación técnica especializada (hard skills)\, competencias transversales (soft skills) y prácticas reales en empresa. Al finalizar serás capaz de: \n\nIncorporarte a trabajos de rehabilitación de edificios en fachadas y cubiertas.\nIdentificar patologías constructivas relacionadas con la humedad\, fisuras\, grietas y desprendimientos.\nAnalizar el estado previo de los soportes para determinar el sistema de intervención más adecuado.\nPreparar y acondicionar soportes para revestimientos\, sistemas SATE e impermeabilización.\nEjecutar revestimientos continuos.\nInstalar sistemas de aislamiento térmico por el exterior (SATE) y en cubiertas.\nRealizar trabajos de impermeabilización con membranas bituminosas y sintéticas.\nAplicar en todas las fases de trabajo las normas de prevención de riesgos laborales\, calidad y protección medioambiental.\n\nIncluye formación en prevención de riesgos laborales para trabajos de revestimiento de exteriores. \nRequisitos de acceso\nImprescindible cumplir con TODOS los siguientes requisitos: \n\nPersona inscrita como demandante de empleo en la Comunidad de Madrid.\nContar con empadronamiento preferentemente en el municipio de Madrid.\nIdioma Castellano B1.\nSer mayor de 18 años.\n\nFormación práctica en empresa\nTras completar la parte teórica (170 horas)\, realizarás un mínimo de 50 horas de prácticas tutorizadas\, donde podrás aplicar lo aprendido en entornos reales y facilitar tu incorporación al mundo laboral. \nContenidos del programa\nMódulo Hard Skills – Habilidades técnicas (150 h)\n\nDiagnóstico técnico\, patologías y tratamiento de soportes: Aprenderás a identificar las principales patologías de la edificación\, como humedades\, fisuras\, grietas y desprendimientos\, así como las incompatibilidades entre materiales.\nRevestimientos continuos de fachadas: Se trabajarán los replanteos\, la preparación de materiales y herramientas\, y la ejecución de morteros monocapa\, revocos y enlucidos técnicos.\nSistemas de aislamiento térmico por el exterior (SATE): Preparación del soporte\, la colocación y fijación de los paneles aislantes\, la aplicación de capas base y mallas\, así como la resolución de detalles singulares para garantizar la continuidad del aislamiento y su correcto comportamiento térmico.\nImpermeabilización de cubiertas: Trabajar con membranas bituminosas\, acrílicas y sintéticas.\n\nMódulo Soft Skills – Formación transversal (20 h)\n\nPrevención de Riesgos Laborales para trabajos de revestimiento de exteriores – 20 h\n\nSalidas profesionales\nUna vez finalizado el curso estarás preparado/a para trabajar como: \n\nCapacitación para trabajar en el sector de la rehabilitación y mejora energética de edificios\, colaborando en trabajos de revestimiento de fachadas\, instalación de sistemas de aislamiento térmico\, impermeabilización de cubiertas y mantenimiento de la envolvente del edificio. Siempre cumpliendo la normativa vigente de seguridad y calidad.\n\n¿Por qué elegir este curso?\n✔ Formación 100% gratuita✔ Acceso a prácticas reales✔ Posibilidad de contratación al finalizar✔ Docentes especializados y formación orientada al empleo \n¿Listo/a para dar el paso hacia un oficio con futuro?📩 Inscríbete ahora y fórmate para trabajar donde se necesitan personas como tú.
URL:https://emempleoverdeyoficios.madrid.es/programa/curso-de-rehabilitacion-y-aislamiento-de-edificios/
LOCATION:EMEVO\, Calle Ginebro 1\, Madrid\, 28041
CATEGORIES:Construcción,Desarrollo sostenible
ATTACH;FMTTYPE=image/jpeg:https://emempleoverdeyoficios.madrid.es/wp-content/uploads/2026/01/Rehabilitacion-y-Aislamiento-de-Edificios.jpg
ORGANIZER;CN="EMEVO":MAILTO:emempleoverdeyoficios@madrid.es
END:VEVENT
BEGIN:VEVENT
DTSTART;TZID=Europe/Madrid:20260511T090000
DTEND;TZID=Europe/Madrid:20260511T150000
DTSTAMP:20260422T235525
CREATED:20250924T115956Z
LAST-MODIFIED:20260420T093802Z
UID:10000021-1778490000-1778511600@emempleoverdeyoficios.madrid.es
SUMMARY:Curso de Montaje e Instalación de Mobiliario
DESCRIPTION:Fórmate para trabajar en montaje e instalación de cocinas y mobiliario en viviendas y locales. Aprenderás a interpretar planos\, organizar logística en obra\, instalar módulos\, puertas\, encimeras y herrajes con calidad y seguridad\, y reforzarás tus competencias transversales (PRL\, comunicación\, equipo y habilidades digitales). \n¿A quién va dirigido este curso?\nPersonas desempleadas e inscritas como demandantes de empleo en la Comunidad de Madrid que quieran adquirir una profesión técnica con alta proyección en reformas\, instalación de cocinas y mobiliario. \nDuración\, modalidad y fechas\n\nTotal: 240 horas (+ 48 h de prácticas en empresa)\nComienzo: 11 de mayo de 2026\nModalidad: Presencial\nHorario: 6 h al día (turno de mañana\, 09:00 h – 15:00 h)\nLugar: EMEVO\nTeléfono: 689 43 91 90\nEmail: emempleoverdeyoficios@madrid.esLas fechas y horarios son orientativos y pueden sufrir modificaciones.\n\n¿Qué vas a aprender?\nCompetencias para desempeñarte como montador/a–instalador/a de mobiliario con criterios de calidad\, seguridad y normativa: \n\nInterpretar planos y croquis\, elaborar plantillas y listas de despiece.\nSeleccionar herramientas y materiales adecuados a cada trabajo.\nPlanificar logística: transporte\, accesos\, protecciones y acopio en obra.\nMontar e instalar módulos altos y bajos\, puertas\, encimeras\, herrajes y remates.\nRealizar ajustes\, nivelaciones y controles de calidad.\nAplicar PRL y buenas prácticas ambientales en instalación de carpintería y mueble.\n\nRequisitos de acceso\nSe requiere\n\nPersona inscrita como demandante de empleo en la Comunidad de Madrid.\nContar con empadronamiento preferentemente en el municipio de Madrid.\nIdioma Castellano B1.\nSer mayor de 18 años.\nConocimientos básicos de matemáticas y competencias digitales (se realizará un pequeño ejercicio de acceso)\nCarnet de conducir.\n\nSe valorará positivamente\n\nExperiencia en trabajos manuales/técnicos (montaje\, reformas\, bricolaje\, similares)\nActitud proactiva y capacidad de trabajo en equipo.\nManejo de herramientas digitales básicas.\n\nFormación práctica en empresa\nTras la fase teórica\, realizarás 48 h de prácticas tutorizadas en empresa colaboradora\, para aplicar lo aprendido en entornos reales y mejorar tu empleabilidad. \nContenidos del programa\nMódulo Hard Skills (190 h) – Habilidades técnicas\n\nProcesos previos a la instalación: planificación\, mediciones\, acopio y preparación; interpretación de planos/croquis; plantillas y despieces; herramientas\, máquinas y útiles; transporte\, accesos y protecciones.\nInstalación de mobiliario de cocina: tipos y componentes; desembalaje y replanteo; instalación de módulos altos/bajos; herrajes y puertas; encimeras y remates; normativa de calidad\, salud laboral y medioambiente.\n\nMódulo Soft Skills / Formación transversal (50 h)\n\nPRL para trabajos de instalación de carpintería y mueble – 20 h\nComunicación eficaz – 10 h\nTrabajo en equipo – 10 h\nCompetencias digitales básicas – 10 h\n\n\nCorreo electrónico profesional\, gestión de archivos/imágenes desde el móvil\, formularios digitales\, uso básico de Google Drive y hojas de cálculo. \n\n\n\n\nMódulo de Prácticas tutorizadas – 48 h\nEstancia en empresa con seguimiento del equipo docente. \nSalidas profesionales\n\nMontador/a–instalador/a de cocinas y mobiliario en hogar y comercios.\nApoyo en transporte y organización de materiales.\nUso de herramientas manuales y eléctricas.\nInterpretación de planos\, ajustes\, acabados y control de calidad.\nColaboración con equipo técnico y atención al cliente.\n\n¿Por qué elegir esta formación?\n✔ Itinerario financiado por el Ayuntamiento de Madrid \n✔ Enfoque práctico con criterios de calidad y seguridad \n✔ Soft skills + competencias digitales para una inserción más sólida \n✔ Prácticas en empresa con posibilidad de ampliación horaria
URL:https://emempleoverdeyoficios.madrid.es/programa/curso-de-montaje-e-instalacion-de-mobiliario/
LOCATION:EMEVO\, Calle Ginebro 1\, Madrid\, 28041
CATEGORIES:Carpintería
ATTACH;FMTTYPE=image/jpeg:https://emempleoverdeyoficios.madrid.es/wp-content/uploads/2025/09/instalador-de-muebles.jpg
ORGANIZER;CN="EMEVO":MAILTO:emempleoverdeyoficios@madrid.es
END:VEVENT
BEGIN:VEVENT
DTSTART;TZID=Europe/Madrid:20260603T090000
DTEND;TZID=Europe/Madrid:20260603T140000
DTSTAMP:20260422T235525
CREATED:20260327T100823Z
LAST-MODIFIED:20260416T105036Z
UID:10000033-1780477200-1780495200@emempleoverdeyoficios.madrid.es
SUMMARY:Curso de Oficial de Saneamiento
DESCRIPTION:Fórmate para trabajar como oficial de saneamiento\, un oficio esencial dentro del mantenimiento de las ciudades. Este itinerario te permitirá adquirir los conocimientos técnicos necesarios para participar en proyectos de saneamiento urbano y edificación\, interpretando planos\, ejecutando redes de drenaje y saneamiento\, y aplicando las medidas de seguridad y calidad exigidas en obra. \n¿A quién va dirigido?\nPersonas mayores de 18 años\, desempleadas e inscritas como demandantes de empleo en la Comunidad de Madrid\, con interés en trabajos manuales\, y predisposición para el manejo de herramientas. \nDuración\, modalidad y fechas\n\nTotal: 200 horas (+ 50 h prácticas en empresa)\nComienzo: 03 de junio de 2026\nModalidad: Presencial\nHorario: 5 h al día (turno de mañana\, 09:00 h – 14:00 h)\nLugar: FLC Vicálvaro (Madrid) / EMEVO\nTeléfono: 689 43 91 90\nEmail: emempleoverdeyoficios@madrid.esLas fechas y horarios son orientativos y pueden sufrir modificaciones.\n\n¿Qué vas a aprender?\nEste curso combina formación técnica especializada (hard skills)\, competencias transversales (soft skills) y prácticas reales en empresa. Al finalizar serás capaz de: \n\nEjecutar trabajos en proyectos de saneamiento interpretando planos y especificaciones técnicas.\nAplicar prácticas de seguridad y prevención de riesgos laborales en obra.\nColaborar en la gestión eficiente de materiales\, herramientas y equipos.\nIdentificar y resolver incidencias técnicas durante la ejecución de los trabajos.\nCumplir la normativa vigente de construcción\, calidad y sostenibilidad.\nRealizar operaciones de carga\, descarga\, excavación y compactación\, así como el manejo seguro de carretilla elevadora y dumper.\n\nIncluye formación en prevención de riesgos laborales en Construcción. \nRequisitos de acceso\nImprescindible cumplir con TODOS los siguientes requisitos: \n\nPersona inscrita como demandante de empleo en la Comunidad de Madrid.\nContar con empadronamiento preferentemente en el municipio de Madrid.\nIdioma Castellano B1.\nSer mayor de 18 años.\n\nSe valorará: \n\nCarnet de conducir \nInterés y capacitación en trabajos manuales.\nActitud y predisposición en el manejo de herramientas y materiales.\n\nFormación práctica en empresa\nTras completar la parte teórica (200 horas)\, realizarás un mínimo de 50 horas de prácticas tutorizadas\, donde podrás aplicar lo aprendido en entornos reales y facilitar tu incorporación al mundo laboral. \nContenidos del programa\nMódulo Hard Skills – Habilidades técnicas (140 h)\n\nInterpretar planos de obra: Comprendiendo escalas\, símbolos\, secciones y detalles constructivos necesarios para la ejecución de trabajos de saneamiento.\nRealizar replanteos en obra: Estableciendo ejes\, referencias y niveles mediante herramientas de medición como nivel láser o manguera de agua\, garantizando la correcta alineación y pendiente de las instalaciones.\nEjecutar zanjas de saneamiento: Incluyendo el acondicionamiento del tajo\, el replanteo de redes enterradas\, el tendido de tuberías de drenaje y saneamiento\, el relleno y la compactación de zanjas y el uso de entibaciones.\nGestionar el agua en zanjas mediante el uso de bombas y sistemas de drenaje: Así como construir arquetas\, pozos y elementos prefabricados para redes enterradas.\nTrabajar en galerías de saneamiento: Conociendo los métodos de excavación\, sostenimiento\, revestimiento y ejecución de pozos\, además de la limpieza e inspección de colectores.\nRealizar trabajos de extendido de hormigón: Incluyendo transporte\, vertido\, compactación\, nivelación\, texturizado y curado.\nEjecutar trabajos de pavimentación: Preparando el terreno y realizando colocación de bordillos\, pavimentos solados\, adoquinados y extendido asfáltico.\nManejar carretilla elevadora y dumper: Aplicando la normativa vigente\, realizando operaciones básicas de mantenimiento y desarrollando prácticas de conducción en obra.\n\nMódulo Soft Skills – Formación transversal (60 h)\n\nNivel Básico de Prevención en Construcción (VII CGSC) – 60 h (Modalidad Mixta)\n\nSalidas profesionales\nUna vez finalizado el curso estarás preparado/a para trabajar como: \n\nReplanteos y lectura de planos.\nEjecución de zanjas y galerías de saneamiento.\nColocación de tuberías\, bordillos y arquetas.\nExtendido de hormigón y pavimentación.\nTrabajos básicos de obra civil vinculados al saneamiento.\nAplicación de medidas preventivas en obra.\n\n¿Por qué elegir este curso?\n✔ Formación 100% gratuita✔ Acceso a prácticas reales✔ Posibilidad de contratación al finalizar✔ Docentes especializados y formación orientada al empleo \n¿Listo/a para dar el paso hacia un oficio con futuro?📩 Inscríbete ahora y fórmate para trabajar donde se necesitan personas como tú.
URL:https://emempleoverdeyoficios.madrid.es/programa/curso-de-oficial-de-saneamiento/
LOCATION:EMEVO\, Calle Ginebro 1\, Madrid\, 28041
CATEGORIES:Construcción
ATTACH;FMTTYPE=image/jpeg:https://emempleoverdeyoficios.madrid.es/wp-content/uploads/2026/03/Oficial-de-Saneamiento.jpg
ORGANIZER;CN="EMEVO":MAILTO:emempleoverdeyoficios@madrid.es
END:VEVENT
BEGIN:VEVENT
DTSTART;TZID=Europe/Madrid:20260915T090000
DTEND;TZID=Europe/Madrid:20260915T140000
DTSTAMP:20260422T235525
CREATED:20260420T092734Z
LAST-MODIFIED:20260420T092734Z
UID:10000036-1789462800-1789480800@emempleoverdeyoficios.madrid.es
SUMMARY:Curso de Programa Base de Capacitación para Personal de Obra
DESCRIPTION:Fórmate para iniciar tu carrera profesional en el sector de la construcción. Este itinerario te permitirá adquirir las competencias básicas necesarias para trabajar en obra\, reforzando conocimientos técnicos\, habilidades organizativas y trabajo en equipo\, y sentando las bases para evolucionar hacia puestos de mayor responsabilidad\, según tu desempeño y experiencia. \n¿A quién va dirigido?\nPersonas mayores de 18 años\, desempleadas e inscritas como demandantes de empleo en la Comunidad de Madrid\, interesadas en desarrollar su carrera profesional en el sector de la construcción. \nDuración\, modalidad y fechas\n\nTotal: 222 horas (+ 80 h prácticas en empresa)\nComienzo: 15 de septiembre de 2026\nModalidad: Presencial\nHorario: 5 h al día (turno de mañana\, 09:00 h – 14:00 h)\nLugar: FLC Vicálvaro (Madrid)\nTeléfono: 689 43 91 90\nEmail: emempleoverdeyoficios@madrid.esLas fechas y horarios son orientativos y pueden sufrir modificaciones.\n\n¿Qué vas a aprender?\nEste curso combina formación técnica especializada (hard skills)\, competencias transversales (soft skills) y prácticas reales en empresa. Al finalizar serás capaz de: \n\nParticipar en la ejecución de proyectos de construcción interpretando planos y especificaciones técnicas.\nAplicar prácticas de seguridad y prevención de riesgos laborales en obra.\nColaborar en la gestión eficiente de materiales\, herramientas y equipos.\nCoordinar tareas y colaborar con equipos de trabajo en obra.\nIdentificar y resolver incidencias técnicas durante la ejecución de los trabajos.\nCumplir la normativa de construcción\, sostenibilidad y medio ambiente.\nRealizar operaciones de carga\, descarga\, excavación\, compactación y circulación con carretilla elevadora y dumper de forma segura.\n\nIncluye formación en prevención de riesgos laborales en Construcción (nivel básico)\, prevención de riesgos laborales para trabajos de albañilería (parte específica) y para aparatos elevadores (parte específica). \nRequisitos de acceso\nImprescindible cumplir con TODOS los siguientes requisitos: \n\nPersona inscrita como demandante de empleo en la Comunidad de Madrid.\nContar con empadronamiento preferentemente en el municipio de Madrid.\nIdioma Castellano B1.\nSer mayor de 18 años.\nCompromiso con las normas de seguridad en obra.\n\nSe valorará: \n\nInterés y capacitación en trabajos manuales.\nActitud y predisposición en el manejo de herramientas y materiales.\n\nFormación práctica en empresa\nTras completar la parte teórica (222 horas)\, realizarás un mínimo de 80 horas de prácticas tutorizadas\, donde podrás aplicar lo aprendido en entornos reales y facilitar tu incorporación al mundo laboral. \nContenidos del programa\nMódulo Hard Skills – Habilidades técnicas (150 h)\n\nProcesos constructivos básicos: Movimiento de tierras\, cimentaciones\, estructuras y cerramientos. Tabiquería\, cubiertas\, instalaciones\, impermeabilización y acabados.\nInterpretación de planos: Lectura de planos de estructura\, simbología y cotas. Cálculo de cotas y diferencias de nivel.\nReplanteos en obra: Establecimiento de ejes\, referencias y puntos de control. Medición de distancias y ángulos. Uso de nivel láser y nivel de agua. Obtención de pendientes y replanteo de pilares y escaleras.\nMateriales de construcción: Tipos de hormigón y acero. Cubicación inicial de elementos estructurales. Materiales de obra: ladrillos\, morteros\, pladur\, impermeabilizantes y aislantes. Uso adecuado según normativa y especificaciones.\nGestión medioambiental en obra: Sensibilización ambiental y uso eficiente de recursos. Gestión de residuos de construcción. Buenas prácticas y normativa básica.\nMedios auxiliares: Andamios\, plataformas elevadoras\, escaleras y torres móviles. Grúas\, montacargas\, polipastos y carretillas elevadoras. Protecciones colectivas y montaje de medios auxiliares.\nOperaciones con carretilla elevadora y dumper: Legislación y normativa. Componentes\, tipologías y operaciones básicas. Mantenimiento e inspecciones. Prevención de riesgos y prácticas de conducción.\n\nMódulo Soft Skills – Formación transversal (72 h)\n\nNivel Básico de Prevención en Construcción (VII CGSC) – 60 h (Modalidad Mixta)\nPRL para trabajos de albañilería – 6 h (Parte específica)\nPRL para aparatos elevadores – 6 h (Parte específica)\n\nSalidas profesionales\nUna vez finalizado el curso estarás preparado/a para trabajar como: \n\nApoyo en replanteos y manejo básico de equipos topográficos.\nImplantación de obra y organización de acopios y accesos.\nApoyo en seguridad y salud en obra\, y uso de EPIs.\nMontaje de andamios y medios auxiliares.\nTrabajos básicos de albañilería: muros\, recrecidos\, bancadas\, medias cañas y vertidos.\nPreparación de materiales\, hormigonado y traslado en obra.\nApoyo en orden\, limpieza y gestión de residuos.\n\n¿Por qué elegir este curso?\n✔ Formación 100% gratuita✔ Acceso a prácticas reales✔ Posibilidad de contratación al finalizar✔ Docentes especializados y formación orientada al empleo \n¿Listo/a para dar el paso hacia un oficio con futuro?📩 Inscríbete ahora y fórmate para trabajar donde se necesitan personas como tú.
URL:https://emempleoverdeyoficios.madrid.es/programa/curso-de-programa-base-de-capacitacion-para-personal-de-obra/
LOCATION:EMEVO\, Calle Ginebro 1\, Madrid\, 28041
CATEGORIES:Construcción
ATTACH;FMTTYPE=image/jpeg:https://emempleoverdeyoficios.madrid.es/wp-content/uploads/2026/04/Programa-Base-de-Capacitacion-para-Personal-de-Obra.jpg
ORGANIZER;CN="EMEVO":MAILTO:emempleoverdeyoficios@madrid.es
END:VEVENT
END:VCALENDAR