BEGIN:VCALENDAR
VERSION:2.0
PRODID:-//EMEVO - ECPv6.13.1//NONSGML v1.0//EN
CALSCALE:GREGORIAN
METHOD:PUBLISH
X-WR-CALNAME:EMEVO
X-ORIGINAL-URL:https://emempleoverdeyoficios.madrid.es
X-WR-CALDESC:Eventos para EMEVO
REFRESH-INTERVAL;VALUE=DURATION:PT1H
X-Robots-Tag:noindex
X-PUBLISHED-TTL:PT1H
BEGIN:VTIMEZONE
TZID:Europe/Madrid
BEGIN:DAYLIGHT
TZOFFSETFROM:+0100
TZOFFSETTO:+0200
TZNAME:CEST
DTSTART:20250330T010000
END:DAYLIGHT
BEGIN:STANDARD
TZOFFSETFROM:+0200
TZOFFSETTO:+0100
TZNAME:CET
DTSTART:20251026T010000
END:STANDARD
END:VTIMEZONE
BEGIN:VEVENT
DTSTART;TZID=Europe/Madrid:20250424T110000
DTEND;TZID=Europe/Madrid:20250424T120000
DTSTAMP:20260423T042904
CREATED:20250305T154255Z
LAST-MODIFIED:20250612T103702Z
UID:10000001-1745492400-1745496000@emempleoverdeyoficios.madrid.es
SUMMARY:Sesión Informativa con COMSA – ¡Conoce tu futuro en el sector ferroviario!
DESCRIPTION:¿Te gustaría trabajar en el montaje y mantenimiento de infraestructuras ferroviarias? ¿Quieres conocer de primera mano cómo es el trabajo en el sector y qué perfiles se están buscando? \nTe invitamos a una sesión informativa muy especial con la empresa COMSA\, una de las principales compañías del sector ferroviario en España\, que ha colaborado con nosotros en el diseño del itinerario formativo “Construcción de Superestructura de Vías en Obras Hormigonadas”. \n🗓 Fecha: Miércoles\, 24 de abril\n🕚 Hora: 11:00\n📍 Lugar: Escuela Municipal de Empleo Verde y Oficios – C/ Ginebro\, 1. Madrid \n¿Qué encontrarás en esta sesión?\n\n Una explicación detallada del proyecto formativo desarrollado junto a COMSA\nInformación directa sobre las necesidades reales de contratación\nConocerás qué se espera de un operario ferroviario hoy en día\nUn responsable de COMSA resolverá todas tus preguntas sobre el empleo\, condiciones y requisito\nDescubrirás cómo este itinerario puede ser tu puerta de entrada al sector ferroviario\n\nUna formación con opción real de contratación\nEste encuentro es una oportunidad única para aclarar dudas\, conocer el trabajo de primera mano y valorar si este camino profesional es para ti. La empresa busca personas comprometidas\, con ganas de aprender un oficio estable y crecer en un entorno profesional. \n✅ Actividad gratuita. Aforo limitado. No necesitas experiencia previa\, solo motivación. \n📩 Si tienes interés en asistir\, acude el 24 de abril a las 11:00 o contacta con nuestro equipo para más información:\n📞 689 439 190\n📧 poner nuevo correo de emevo
URL:https://emempleoverdeyoficios.madrid.es/programa/sesion-informativa-comsa/
LOCATION:EMEVO\, Calle Ginebro 1\, Madrid\, 28041
CATEGORIES:Actividades,Charlas
ATTACH;FMTTYPE=image/jpeg:https://emempleoverdeyoficios.madrid.es/wp-content/uploads/2025/03/Diseño-sin-título.jpg
ORGANIZER;CN="EMEVO":MAILTO:emempleoverdeyoficios@madrid.es
END:VEVENT
BEGIN:VEVENT
DTSTART;TZID=Europe/Madrid:20250423T120000
DTEND;TZID=Europe/Madrid:20250423T140000
DTSTAMP:20260423T042904
CREATED:20250423T145504Z
LAST-MODIFIED:20251010T080542Z
UID:10000006-1745409600-1745416800@emempleoverdeyoficios.madrid.es
SUMMARY:Proyecto Women Can Build
DESCRIPTION:¿Sabías que el sector de la construcción también puede ser un espacio de igualdad\, innovación y futuro profesional para las mujeres? \nTe invitamos a conocer de cerca el proyecto europeo “WOMEN CAN BUILD” (Las mujeres pueden construir)\, una iniciativa que impulsa la igualdad de género en el ámbito de la construcción y que busca romper estereotipos para abrir nuevas oportunidades laborales a mujeres en situación de desempleo\, riesgo de exclusión social o paro de larga duración. \n📅 Martes 23 de abril🕚 11:00 h📍 Escuela Municipal de Empleo Verde y Oficios – Calle Ginebro\, 1. \nEste proyecto\, liderado por la Fundación Laboral de la Construcción con la Agencia para el Empleo de Madrid como entidad socia\, tiene un objetivo claro: transformar la Formación Profesional y el sector de la construcción para que sean más igualitarios\, inclusivos y atractivos para las mujeres. \n¿Qué objetivos persigue Women Can Build?\n\n\nPromover un cambio de mirada en el sector: más justo\, moderno y socialmente responsable. \n\n\nAtraer a mujeres al sector\, visibilizando sus oportunidades reales de empleo. \n\n\nOfrecer formación profesional con enfoque de género para centros\, docentes y empresas. \n\n\nFormar a formadores y formadoras en competencias inclusivas. \n\n\nReconocer buenas prácticas que puedan replicarse en otros sectores y países. \n\n\nActividades destacadas del proyecto\n\n\nCreación de cursos online (MOOC) para formar en igualdad a docentes y profesionales del sector. \n\n\nElaboración de guías prácticas para el acompañamiento y tutoría de mujeres en formación. \n\n\nExperiencias reales de aprendizaje activo: grupos de mujeres construyen un Edificio de Energía Casi Nula aplicando técnicas de eficiencia energética y energías renovables. \n\n\nApoyo a empresas para diseñar hojas de ruta con servicios que favorezcan la integración laboral de las mujeres en la construcción. \n\n\nUn proyecto Erasmus+ con impacto europeo\n“Women Can Build” es un ejemplo de buena práctica internacional\, que puede replicarse en otros países\, sectores y realidades. Una forma de demostrar que\, con formación y compromiso\, las mujeres sí pueden construir el futuro.
URL:https://emempleoverdeyoficios.madrid.es/programa/proyecto-women-can-build/
LOCATION:EMEVO\, Calle Ginebro 1\, Madrid\, 28041
CATEGORIES:Actividades,Eventos
ATTACH;FMTTYPE=image/jpeg:https://emempleoverdeyoficios.madrid.es/wp-content/uploads/2025/04/proyecto-women-can-build.jpg
ORGANIZER;CN="EMEVO":MAILTO:emempleoverdeyoficios@madrid.es
END:VEVENT
END:VCALENDAR